BEGIN:VCALENDAR
VERSION:2.0
PRODID:-//Hamilton Masons - ECPv6.15.20//NONSGML v1.0//EN
CALSCALE:GREGORIAN
METHOD:PUBLISH
X-ORIGINAL-URL:https://hamiltonmasons.ca
X-WR-CALDESC:Events for Hamilton Masons
REFRESH-INTERVAL;VALUE=DURATION:PT1H
X-Robots-Tag:noindex
X-PUBLISHED-TTL:PT1H
BEGIN:VTIMEZONE
TZID:America/Toronto
BEGIN:DAYLIGHT
TZOFFSETFROM:-0500
TZOFFSETTO:-0400
TZNAME:EDT
DTSTART:20240310T070000
END:DAYLIGHT
BEGIN:STANDARD
TZOFFSETFROM:-0400
TZOFFSETTO:-0500
TZNAME:EST
DTSTART:20241103T060000
END:STANDARD
BEGIN:DAYLIGHT
TZOFFSETFROM:-0500
TZOFFSETTO:-0400
TZNAME:EDT
DTSTART:20250309T070000
END:DAYLIGHT
BEGIN:STANDARD
TZOFFSETFROM:-0400
TZOFFSETTO:-0500
TZNAME:EST
DTSTART:20251102T060000
END:STANDARD
BEGIN:DAYLIGHT
TZOFFSETFROM:-0500
TZOFFSETTO:-0400
TZNAME:EDT
DTSTART:20260308T070000
END:DAYLIGHT
BEGIN:STANDARD
TZOFFSETFROM:-0400
TZOFFSETTO:-0500
TZNAME:EST
DTSTART:20261101T060000
END:STANDARD
END:VTIMEZONE
BEGIN:VEVENT
DTSTART;TZID=America/Toronto:20250715T080000
DTEND;TZID=America/Toronto:20250717T170000
DTSTAMP:20260420T033800
CREATED:20250729T114903Z
LAST-MODIFIED:20250907T134210Z
UID:2881-1752566400-1752771600@hamiltonmasons.ca
SUMMARY:2025 Grand Communication
DESCRIPTION:This is the annual gathering to discuss the affairs of the Grand Lodge\, elect Officers\, and provide a venue for cementing the bonds of friendship
URL:https://hamiltonmasons.ca/event/2025-grand-communication/
LOCATION:Sheraton Parkway Toronto North Hotel & Suites\, 600 Hwy 7\, Richmond Hill\, Ontario\, L4B 1B2\, Canada
CATEGORIES:Grand Lodge,Grand Lodge Communication
END:VEVENT
END:VCALENDAR