BEGIN:VCALENDAR
VERSION:2.0
PRODID:-//Hamilton Masons - ECPv6.15.20//NONSGML v1.0//EN
CALSCALE:GREGORIAN
METHOD:PUBLISH
X-WR-CALNAME:Hamilton Masons
X-ORIGINAL-URL:https://hamiltonmasons.ca
X-WR-CALDESC:Events for Hamilton Masons
REFRESH-INTERVAL;VALUE=DURATION:PT1H
X-Robots-Tag:noindex
X-PUBLISHED-TTL:PT1H
BEGIN:VTIMEZONE
TZID:America/Toronto
BEGIN:DAYLIGHT
TZOFFSETFROM:-0500
TZOFFSETTO:-0400
TZNAME:EDT
DTSTART:20240310T070000
END:DAYLIGHT
BEGIN:STANDARD
TZOFFSETFROM:-0400
TZOFFSETTO:-0500
TZNAME:EST
DTSTART:20241103T060000
END:STANDARD
BEGIN:DAYLIGHT
TZOFFSETFROM:-0500
TZOFFSETTO:-0400
TZNAME:EDT
DTSTART:20250309T070000
END:DAYLIGHT
BEGIN:STANDARD
TZOFFSETFROM:-0400
TZOFFSETTO:-0500
TZNAME:EST
DTSTART:20251102T060000
END:STANDARD
BEGIN:DAYLIGHT
TZOFFSETFROM:-0500
TZOFFSETTO:-0400
TZNAME:EDT
DTSTART:20260308T070000
END:DAYLIGHT
BEGIN:STANDARD
TZOFFSETFROM:-0400
TZOFFSETTO:-0500
TZNAME:EST
DTSTART:20261101T060000
END:STANDARD
END:VTIMEZONE
BEGIN:VEVENT
DTSTART;TZID=America/Toronto:20250928T010000
DTEND;TZID=America/Toronto:20250928T150000
DTSTAMP:20260419T221855
CREATED:20250909T030029Z
LAST-MODIFIED:20250909T194436Z
UID:3941-1759021200-1759071600@hamiltonmasons.ca
SUMMARY:Tribute to M.W. Bro. Ronald E. Groshaw
DESCRIPTION:Dress Code: Business Suit with Tie (No Regalia)Guests: Your lady/partner is very welcome.Grand Lodge will host a light reception following the tribute.We encourage all brethren to attend and honour his dedicated service to the Craft.
URL:https://hamiltonmasons.ca/event/tribute-to-m-w-bro-ronald-e-groshaw/
LOCATION:Masonic Centre of Hamilton\, 4 Queen Street South\, Hamilton\, ON\, L8P 3R3\, Canada
CATEGORIES:Memorial Service,Other,South District
END:VEVENT
END:VCALENDAR