BEGIN:VCALENDAR
VERSION:2.0
PRODID:-//Hamilton Masons - ECPv6.15.20//NONSGML v1.0//EN
CALSCALE:GREGORIAN
METHOD:PUBLISH
X-ORIGINAL-URL:https://hamiltonmasons.ca
X-WR-CALDESC:Events for Hamilton Masons
REFRESH-INTERVAL;VALUE=DURATION:PT1H
X-Robots-Tag:noindex
X-PUBLISHED-TTL:PT1H
BEGIN:VTIMEZONE
TZID:America/Toronto
BEGIN:DAYLIGHT
TZOFFSETFROM:-0500
TZOFFSETTO:-0400
TZNAME:EDT
DTSTART:20240310T070000
END:DAYLIGHT
BEGIN:STANDARD
TZOFFSETFROM:-0400
TZOFFSETTO:-0500
TZNAME:EST
DTSTART:20241103T060000
END:STANDARD
BEGIN:DAYLIGHT
TZOFFSETFROM:-0500
TZOFFSETTO:-0400
TZNAME:EDT
DTSTART:20250309T070000
END:DAYLIGHT
BEGIN:STANDARD
TZOFFSETFROM:-0400
TZOFFSETTO:-0500
TZNAME:EST
DTSTART:20251102T060000
END:STANDARD
BEGIN:DAYLIGHT
TZOFFSETFROM:-0500
TZOFFSETTO:-0400
TZNAME:EDT
DTSTART:20260308T070000
END:DAYLIGHT
BEGIN:STANDARD
TZOFFSETFROM:-0400
TZOFFSETTO:-0500
TZNAME:EST
DTSTART:20261101T060000
END:STANDARD
END:VTIMEZONE
BEGIN:VEVENT
DTSTART;TZID=America/Toronto:20251020T080000
DTEND;TZID=America/Toronto:20251020T170000
DTSTAMP:20260419T220628
CREATED:20251021T033107Z
LAST-MODIFIED:20251021T033109Z
UID:4998-1760947200-1760979600@hamiltonmasons.ca
SUMMARY:Official Visit - Burlington Reunion No. 165
DESCRIPTION:
URL:https://hamiltonmasons.ca/event/official-visit-burlington-reunion-no-165/
LOCATION:Burlington Masonic Temple\, 459 Brant Street\, Burlington\, Ontario\, L7R2G3\, Canada
CATEGORIES:Burlington Reunion Lodge No. 165,Campbell Lodge No. 603,North District,Official Visit
END:VEVENT
BEGIN:VEVENT
DTSTART;TZID=America/Toronto:20251020T193000
DTEND;TZID=America/Toronto:20251020T220000
DTSTAMP:20260419T220628
CREATED:20251014T021028Z
LAST-MODIFIED:20251014T021029Z
UID:4661-1760988600-1760997600@hamiltonmasons.ca
SUMMARY:Fraternal Visit to Electric Valley at MCH
DESCRIPTION:
URL:https://hamiltonmasons.ca/event/fraternal-visit-to-electric-valley-at-mch/
LOCATION:Masonic Centre of Hamilton\, 4 Queen Street South\, Hamilton\, ON\, L8P 3R3\, Canada
CATEGORIES:Fraternal Visit,Regular Meeting,South District
END:VEVENT
END:VCALENDAR