BEGIN:VCALENDAR
VERSION:2.0
PRODID:-//Hamilton Masons - ECPv6.15.20//NONSGML v1.0//EN
CALSCALE:GREGORIAN
METHOD:PUBLISH
X-ORIGINAL-URL:https://hamiltonmasons.ca
X-WR-CALDESC:Events for Hamilton Masons
REFRESH-INTERVAL;VALUE=DURATION:PT1H
X-Robots-Tag:noindex
X-PUBLISHED-TTL:PT1H
BEGIN:VTIMEZONE
TZID:America/Toronto
BEGIN:DAYLIGHT
TZOFFSETFROM:-0500
TZOFFSETTO:-0400
TZNAME:EDT
DTSTART:20240310T070000
END:DAYLIGHT
BEGIN:STANDARD
TZOFFSETFROM:-0400
TZOFFSETTO:-0500
TZNAME:EST
DTSTART:20241103T060000
END:STANDARD
BEGIN:DAYLIGHT
TZOFFSETFROM:-0500
TZOFFSETTO:-0400
TZNAME:EDT
DTSTART:20250309T070000
END:DAYLIGHT
BEGIN:STANDARD
TZOFFSETFROM:-0400
TZOFFSETTO:-0500
TZNAME:EST
DTSTART:20251102T060000
END:STANDARD
BEGIN:DAYLIGHT
TZOFFSETFROM:-0500
TZOFFSETTO:-0400
TZNAME:EDT
DTSTART:20260308T070000
END:DAYLIGHT
BEGIN:STANDARD
TZOFFSETFROM:-0400
TZOFFSETTO:-0500
TZNAME:EST
DTSTART:20261101T060000
END:STANDARD
END:VTIMEZONE
BEGIN:VEVENT
DTSTART;TZID=America/Toronto:20251119T130000
DTEND;TZID=America/Toronto:20251119T170000
DTSTAMP:20260419T202059
CREATED:20251031T170638Z
LAST-MODIFIED:20251031T171526Z
UID:6204-1763557200-1763571600@hamiltonmasons.ca
SUMMARY:Canadian Blood Services - Training
DESCRIPTION:Learn how to work the recovery station
URL:https://hamiltonmasons.ca/event/canadian-blood-services-training/
LOCATION:Canadian Blood Services\, 35 Stone Church Rd\, Ancaster\, ON\, L9K 1S4\, Canada
CATEGORIES:Blood Donations
ORGANIZER;CN="Hugh Murray Lodge No. 602":MAILTO:info@hughmurray602.ca
END:VEVENT
BEGIN:VEVENT
DTSTART;TZID=America/Toronto:20251119T191400
DTEND;TZID=America/Toronto:20251119T221400
DTSTAMP:20260419T202059
CREATED:20251010T020808Z
LAST-MODIFIED:20251016T025559Z
UID:4449-1763579640-1763590440@hamiltonmasons.ca
SUMMARY:Regular Meeting
DESCRIPTION:No Content
URL:https://hamiltonmasons.ca/event/regular-meeting-6/
LOCATION:ON
CATEGORIES:Battlefield Lodge No. 61,Regular Meeting,South District
END:VEVENT
BEGIN:VEVENT
DTSTART;TZID=America/Toronto:20251119T193000
DTEND;TZID=America/Toronto:20251119T220000
DTSTAMP:20260419T202059
CREATED:20250907T140051Z
LAST-MODIFIED:20251016T025459Z
UID:3880-1763580600-1763589600@hamiltonmasons.ca
SUMMARY:Installation - Battlefield No. 61
DESCRIPTION:Battlefield No. 61
URL:https://hamiltonmasons.ca/event/installation-battlefield-no-61/
LOCATION:ON
CATEGORIES:Battlefield Lodge No. 61,Fraternal Visit,Installation,Regular Meeting,South District
END:VEVENT
END:VCALENDAR