BEGIN:VCALENDAR
VERSION:2.0
PRODID:-//Hamilton Masons - ECPv6.15.20//NONSGML v1.0//EN
CALSCALE:GREGORIAN
METHOD:PUBLISH
X-WR-CALNAME:Hamilton Masons
X-ORIGINAL-URL:https://hamiltonmasons.ca
X-WR-CALDESC:Events for Hamilton Masons
REFRESH-INTERVAL;VALUE=DURATION:PT1H
X-Robots-Tag:noindex
X-PUBLISHED-TTL:PT1H
BEGIN:VTIMEZONE
TZID:America/Toronto
BEGIN:DAYLIGHT
TZOFFSETFROM:-0500
TZOFFSETTO:-0400
TZNAME:EDT
DTSTART:20250309T070000
END:DAYLIGHT
BEGIN:STANDARD
TZOFFSETFROM:-0400
TZOFFSETTO:-0500
TZNAME:EST
DTSTART:20251102T060000
END:STANDARD
BEGIN:DAYLIGHT
TZOFFSETFROM:-0500
TZOFFSETTO:-0400
TZNAME:EDT
DTSTART:20260308T070000
END:DAYLIGHT
BEGIN:STANDARD
TZOFFSETFROM:-0400
TZOFFSETTO:-0500
TZNAME:EST
DTSTART:20261101T060000
END:STANDARD
BEGIN:DAYLIGHT
TZOFFSETFROM:-0500
TZOFFSETTO:-0400
TZNAME:EDT
DTSTART:20270314T070000
END:DAYLIGHT
BEGIN:STANDARD
TZOFFSETFROM:-0400
TZOFFSETTO:-0500
TZNAME:EST
DTSTART:20271107T060000
END:STANDARD
END:VTIMEZONE
BEGIN:VEVENT
DTSTART;TZID=America/Toronto:20260410T180000
DTEND;TZID=America/Toronto:20260410T220000
DTSTAMP:20260419T112658
CREATED:20260319T020544Z
LAST-MODIFIED:20260319T020909Z
UID:8071-1775844000-1775858400@hamiltonmasons.ca
SUMMARY:Comedy Night Hosted by Flamborough No. 357\, St. John's No. 40 & Campbell No.603 Lodges
DESCRIPTION:Doors Open at 6:00 \n\n\n\nDinner Served at 6:30 \n\n\n\nComedy Show at 8:00 \n\n\n\nClick Here for Event Details
URL:https://hamiltonmasons.ca/event/comedy-night-hosted-by-flamborough-no-357-st-johns-no-40-campbell-no-603-lodges/
LOCATION:Club 54\, 3345 Harvester Rd\, Burlington\, ON\, L7N 3N2\, Canada
CATEGORIES:Campbell Lodge No. 603,Flamborough Lodge No. 357,North District,Social,St. John's Lodge No. 40
END:VEVENT
END:VCALENDAR