BEGIN:VCALENDAR
VERSION:2.0
PRODID:-//Hamilton Masons - ECPv6.15.20//NONSGML v1.0//EN
CALSCALE:GREGORIAN
METHOD:PUBLISH
X-ORIGINAL-URL:https://hamiltonmasons.ca
X-WR-CALDESC:Events for Hamilton Masons
REFRESH-INTERVAL;VALUE=DURATION:PT1H
X-Robots-Tag:noindex
X-PUBLISHED-TTL:PT1H
BEGIN:VTIMEZONE
TZID:America/Toronto
BEGIN:DAYLIGHT
TZOFFSETFROM:-0500
TZOFFSETTO:-0400
TZNAME:EDT
DTSTART:20250309T070000
END:DAYLIGHT
BEGIN:STANDARD
TZOFFSETFROM:-0400
TZOFFSETTO:-0500
TZNAME:EST
DTSTART:20251102T060000
END:STANDARD
BEGIN:DAYLIGHT
TZOFFSETFROM:-0500
TZOFFSETTO:-0400
TZNAME:EDT
DTSTART:20260308T070000
END:DAYLIGHT
BEGIN:STANDARD
TZOFFSETFROM:-0400
TZOFFSETTO:-0500
TZNAME:EST
DTSTART:20261101T060000
END:STANDARD
BEGIN:DAYLIGHT
TZOFFSETFROM:-0500
TZOFFSETTO:-0400
TZNAME:EDT
DTSTART:20270314T070000
END:DAYLIGHT
BEGIN:STANDARD
TZOFFSETFROM:-0400
TZOFFSETTO:-0500
TZNAME:EST
DTSTART:20271107T060000
END:STANDARD
END:VTIMEZONE
BEGIN:VEVENT
DTSTART;TZID=America/Toronto:20260415T191400
DTEND;TZID=America/Toronto:20260415T221400
DTSTAMP:20260419T112825
CREATED:20251010T020811Z
LAST-MODIFIED:20251016T021534Z
UID:4454-1776280440-1776291240@hamiltonmasons.ca
SUMMARY:Regular Meeting
DESCRIPTION:No Content
URL:https://hamiltonmasons.ca/event/regular-meeting-11/
LOCATION:ON
CATEGORIES:Battlefield Lodge No. 61,Regular Meeting,South District
END:VEVENT
BEGIN:VEVENT
DTSTART;TZID=America/Toronto:20260415T193000
DTEND;TZID=America/Toronto:20260415T193000
DTSTAMP:20260419T112825
CREATED:20250907T140037Z
LAST-MODIFIED:20251016T021135Z
UID:3877-1776281400-1776281400@hamiltonmasons.ca
SUMMARY:Official Visit - Battlefield No. 61
DESCRIPTION:Battlefield No. 61
URL:https://hamiltonmasons.ca/event/official-visit-battlefield-no-61/
LOCATION:ON
CATEGORIES:Battlefield Lodge No. 61,Hugh Murray Lodge No. 602,Official Visit,Regular Meeting,South District
END:VEVENT
END:VCALENDAR