BEGIN:VCALENDAR
VERSION:2.0
PRODID:-//Hamilton Masons - ECPv6.15.20//NONSGML v1.0//EN
CALSCALE:GREGORIAN
METHOD:PUBLISH
X-ORIGINAL-URL:https://hamiltonmasons.ca
X-WR-CALDESC:Events for Hamilton Masons
REFRESH-INTERVAL;VALUE=DURATION:PT1H
X-Robots-Tag:noindex
X-PUBLISHED-TTL:PT1H
BEGIN:VTIMEZONE
TZID:America/Toronto
BEGIN:DAYLIGHT
TZOFFSETFROM:-0500
TZOFFSETTO:-0400
TZNAME:EDT
DTSTART:20250309T070000
END:DAYLIGHT
BEGIN:STANDARD
TZOFFSETFROM:-0400
TZOFFSETTO:-0500
TZNAME:EST
DTSTART:20251102T060000
END:STANDARD
BEGIN:DAYLIGHT
TZOFFSETFROM:-0500
TZOFFSETTO:-0400
TZNAME:EDT
DTSTART:20260308T070000
END:DAYLIGHT
BEGIN:STANDARD
TZOFFSETFROM:-0400
TZOFFSETTO:-0500
TZNAME:EST
DTSTART:20261101T060000
END:STANDARD
BEGIN:DAYLIGHT
TZOFFSETFROM:-0500
TZOFFSETTO:-0400
TZNAME:EDT
DTSTART:20270314T070000
END:DAYLIGHT
BEGIN:STANDARD
TZOFFSETFROM:-0400
TZOFFSETTO:-0500
TZNAME:EST
DTSTART:20271107T060000
END:STANDARD
END:VTIMEZONE
BEGIN:VEVENT
DTSTART;TZID=America/Toronto:20260320T190000
DTEND;TZID=America/Toronto:20260320T230000
DTSTAMP:20260420T130101
CREATED:20260309T190527Z
LAST-MODIFIED:20260309T190729Z
UID:8065-1774033200-1774047600@hamiltonmasons.ca
SUMMARY:CAMPBELL MASONIC LODGE Presents THE ITALIAN FOOD NIGHT
DESCRIPTION:
URL:https://hamiltonmasons.ca/event/campbell-masonic-lodge-presents-the-italian-food-night/
LOCATION:Campbellville Masonic Temple\, 30 Campbell Ave\, Milton\, ontario\, L0P1B0\, Canada
CATEGORIES:Campbell Lodge No. 603,Lodge,North District,Social Event
END:VEVENT
END:VCALENDAR