BEGIN:VCALENDAR
VERSION:2.0
PRODID:-//Hamilton Masons - ECPv6.15.20//NONSGML v1.0//EN
CALSCALE:GREGORIAN
METHOD:PUBLISH
X-ORIGINAL-URL:https://hamiltonmasons.ca
X-WR-CALDESC:Events for Hamilton Masons
REFRESH-INTERVAL;VALUE=DURATION:PT1H
X-Robots-Tag:noindex
X-PUBLISHED-TTL:PT1H
BEGIN:VTIMEZONE
TZID:America/Toronto
BEGIN:DAYLIGHT
TZOFFSETFROM:-0500
TZOFFSETTO:-0400
TZNAME:EDT
DTSTART:20240310T070000
END:DAYLIGHT
BEGIN:STANDARD
TZOFFSETFROM:-0400
TZOFFSETTO:-0500
TZNAME:EST
DTSTART:20241103T060000
END:STANDARD
BEGIN:DAYLIGHT
TZOFFSETFROM:-0500
TZOFFSETTO:-0400
TZNAME:EDT
DTSTART:20250309T070000
END:DAYLIGHT
BEGIN:STANDARD
TZOFFSETFROM:-0400
TZOFFSETTO:-0500
TZNAME:EST
DTSTART:20251102T060000
END:STANDARD
BEGIN:DAYLIGHT
TZOFFSETFROM:-0500
TZOFFSETTO:-0400
TZNAME:EDT
DTSTART:20260308T070000
END:DAYLIGHT
BEGIN:STANDARD
TZOFFSETFROM:-0400
TZOFFSETTO:-0500
TZNAME:EST
DTSTART:20261101T060000
END:STANDARD
END:VTIMEZONE
BEGIN:VEVENT
DTSTART;TZID=America/Toronto:20251206T080000
DTEND;TZID=America/Toronto:20251206T170000
DTSTAMP:20260419T224232
CREATED:20251016T194930Z
LAST-MODIFIED:20251016T194932Z
UID:4905-1765008000-1765040400@hamiltonmasons.ca
SUMMARY:Amalgamation: St. Clair No. 135 and Claude M. Kent No. 681
DESCRIPTION:
URL:https://hamiltonmasons.ca/event/amalgamation-st-clair-no-135-and-claude-m-kent-no-681/
LOCATION:Milton Masonic Temple\, 6321 Regional Road 25\, Milton\, ON\, L0P1E0\, Canada
CATEGORIES:Claude M. Kent Lodge No. 681,Election,Grand Lodge,Installation,North District,Other,St. Clair Lodge No. 135
END:VEVENT
BEGIN:VEVENT
DTSTART;TZID=America/Toronto:20251206T193000
DTEND;TZID=America/Toronto:20251206T220000
DTSTAMP:20260419T224232
CREATED:20251024T033850Z
LAST-MODIFIED:20251024T033851Z
UID:5356-1765049400-1765058400@hamiltonmasons.ca
SUMMARY:Installation - St Clair No. 135 + Claude M. Kent No. 681
DESCRIPTION:
URL:https://hamiltonmasons.ca/event/installation-st-clair-no-135-claude-m-kent-no-681/
LOCATION:Milton Masonic Temple\, 6321 Regional Road 25\, Milton\, ON\, L0P1E0\, Canada
CATEGORIES:Amalgamation,Claude M. Kent Lodge No. 681,Election,Installation,North District,St. Clair Lodge No. 135
END:VEVENT
END:VCALENDAR