BEGIN:VCALENDAR
VERSION:2.0
PRODID:-//Hamilton Masons - ECPv6.15.20//NONSGML v1.0//EN
CALSCALE:GREGORIAN
METHOD:PUBLISH
X-ORIGINAL-URL:https://hamiltonmasons.ca
X-WR-CALDESC:Events for Hamilton Masons
REFRESH-INTERVAL;VALUE=DURATION:PT1H
X-Robots-Tag:noindex
X-PUBLISHED-TTL:PT1H
BEGIN:VTIMEZONE
TZID:America/Toronto
BEGIN:DAYLIGHT
TZOFFSETFROM:-0500
TZOFFSETTO:-0400
TZNAME:EDT
DTSTART:20240310T070000
END:DAYLIGHT
BEGIN:STANDARD
TZOFFSETFROM:-0400
TZOFFSETTO:-0500
TZNAME:EST
DTSTART:20241103T060000
END:STANDARD
BEGIN:DAYLIGHT
TZOFFSETFROM:-0500
TZOFFSETTO:-0400
TZNAME:EDT
DTSTART:20250309T070000
END:DAYLIGHT
BEGIN:STANDARD
TZOFFSETFROM:-0400
TZOFFSETTO:-0500
TZNAME:EST
DTSTART:20251102T060000
END:STANDARD
BEGIN:DAYLIGHT
TZOFFSETFROM:-0500
TZOFFSETTO:-0400
TZNAME:EDT
DTSTART:20260308T070000
END:DAYLIGHT
BEGIN:STANDARD
TZOFFSETFROM:-0400
TZOFFSETTO:-0500
TZNAME:EST
DTSTART:20261101T060000
END:STANDARD
END:VTIMEZONE
BEGIN:VEVENT
DTSTART;TZID=America/Toronto:20251006T191400
DTEND;TZID=America/Toronto:20251006T191400
DTSTAMP:20260420T040658
CREATED:20251114T041813Z
LAST-MODIFIED:20251114T165956Z
UID:6527-1759778040-1759778040@hamiltonmasons.ca
SUMMARY:Regular Meeting
DESCRIPTION:No Content
URL:https://hamiltonmasons.ca/event/regular-meeting-36/
CATEGORIES:Beach Lodge No. 475,beach_475,Regular Meeting,South District
END:VEVENT
BEGIN:VEVENT
DTSTART;TZID=America/Toronto:20251021T180000
DTEND;TZID=America/Toronto:20251021T220000
DTSTAMP:20260420T040658
CREATED:20250801T111902Z
LAST-MODIFIED:20251017T195849Z
UID:2906-1761069600-1761084000@hamiltonmasons.ca
SUMMARY:Hugh Murray Lodge No. 602 Official Visit and Regalia Presentation; accompanied by Beach Lodge
DESCRIPTION:DDGM District South Official Visit to Hugh Murray Lodge No. 602During the Official Visit\, Right Worshipful Brother Cory McCarthy will be presenting Very Worshipful Brother William Veitch with his Grand Senior Deacon Regalia.
URL:https://hamiltonmasons.ca/event/hugh-murray-lodge-no-602-2025-10/
LOCATION:Masonic Centre of Hamilton\, 4 Queen Street South\, Hamilton\, ON\, L8P 3R3\, Canada
CATEGORIES:2nd Degree,Beach Lodge No. 475,Hugh Murray Lodge No. 602,Official Visit,Presentation,Regular Meeting,South District
ORGANIZER;CN="Hugh Murray Lodge No. 602":MAILTO:info@hughmurray602.ca
END:VEVENT
BEGIN:VEVENT
DTSTART;TZID=America/Toronto:20251021T193000
DTEND;TZID=America/Toronto:20251021T193000
DTSTAMP:20260420T040658
CREATED:20251114T041813Z
LAST-MODIFIED:20251114T165956Z
UID:6528-1761075000-1761075000@hamiltonmasons.ca
SUMMARY:Accompanying Lodge
DESCRIPTION:Official Visit to Hugh Murray Lodge No. 602 at the MCH
URL:https://hamiltonmasons.ca/event/accompanying-lodge/
CATEGORIES:2nd Degree,Accompanying Lodge,Beach Lodge No. 475,beach_475,Official Visit,South District
END:VEVENT
END:VCALENDAR