BEGIN:VCALENDAR
VERSION:2.0
PRODID:-//Hamilton Masons - ECPv6.15.20//NONSGML v1.0//EN
CALSCALE:GREGORIAN
METHOD:PUBLISH
X-ORIGINAL-URL:https://hamiltonmasons.ca
X-WR-CALDESC:Events for Hamilton Masons
REFRESH-INTERVAL;VALUE=DURATION:PT1H
X-Robots-Tag:noindex
X-PUBLISHED-TTL:PT1H
BEGIN:VTIMEZONE
TZID:America/Toronto
BEGIN:DAYLIGHT
TZOFFSETFROM:-0500
TZOFFSETTO:-0400
TZNAME:EDT
DTSTART:20240310T070000
END:DAYLIGHT
BEGIN:STANDARD
TZOFFSETFROM:-0400
TZOFFSETTO:-0500
TZNAME:EST
DTSTART:20241103T060000
END:STANDARD
BEGIN:DAYLIGHT
TZOFFSETFROM:-0500
TZOFFSETTO:-0400
TZNAME:EDT
DTSTART:20250309T070000
END:DAYLIGHT
BEGIN:STANDARD
TZOFFSETFROM:-0400
TZOFFSETTO:-0500
TZNAME:EST
DTSTART:20251102T060000
END:STANDARD
BEGIN:DAYLIGHT
TZOFFSETFROM:-0500
TZOFFSETTO:-0400
TZNAME:EDT
DTSTART:20260308T070000
END:DAYLIGHT
BEGIN:STANDARD
TZOFFSETFROM:-0400
TZOFFSETTO:-0500
TZNAME:EST
DTSTART:20261101T060000
END:STANDARD
END:VTIMEZONE
BEGIN:VEVENT
DTSTART;TZID=America/Toronto:20251216T200000
DTEND;TZID=America/Toronto:20251216T220000
DTSTAMP:20260419T225236
CREATED:20251128T180321Z
LAST-MODIFIED:20251128T180414Z
UID:6761-1765915200-1765922400@hamiltonmasons.ca
SUMMARY:Wentworth Lodge No. 166 - 2025 Christmas Social
DESCRIPTION:Beautiful Music of Harpist Rose Soenen MMus Harp Performance \n\n\n\nOpen to all Family & FriendsDonation to Hamilton Food Share will be Generously Accepted
URL:https://hamiltonmasons.ca/event/wentworth-lodge-no-166-2025-christmas-social/
LOCATION:Stoney Creek United Church\, 1 King Street West\, Stoney Creek\, Ontario\, L8G 1G7\, Canada
CATEGORIES:Social Event,South District,Wentworth Lodge No. 166
END:VEVENT
END:VCALENDAR