BEGIN:VCALENDAR
VERSION:2.0
PRODID:-//Hamilton Masons - ECPv6.15.20//NONSGML v1.0//EN
CALSCALE:GREGORIAN
METHOD:PUBLISH
X-WR-CALNAME:Hamilton Masons
X-ORIGINAL-URL:https://hamiltonmasons.ca
X-WR-CALDESC:Events for Hamilton Masons
REFRESH-INTERVAL;VALUE=DURATION:PT1H
X-Robots-Tag:noindex
X-PUBLISHED-TTL:PT1H
BEGIN:VTIMEZONE
TZID:America/Toronto
BEGIN:DAYLIGHT
TZOFFSETFROM:-0500
TZOFFSETTO:-0400
TZNAME:EDT
DTSTART:20250309T070000
END:DAYLIGHT
BEGIN:STANDARD
TZOFFSETFROM:-0400
TZOFFSETTO:-0500
TZNAME:EST
DTSTART:20251102T060000
END:STANDARD
BEGIN:DAYLIGHT
TZOFFSETFROM:-0500
TZOFFSETTO:-0400
TZNAME:EDT
DTSTART:20260308T070000
END:DAYLIGHT
BEGIN:STANDARD
TZOFFSETFROM:-0400
TZOFFSETTO:-0500
TZNAME:EST
DTSTART:20261101T060000
END:STANDARD
BEGIN:DAYLIGHT
TZOFFSETFROM:-0500
TZOFFSETTO:-0400
TZNAME:EDT
DTSTART:20270314T070000
END:DAYLIGHT
BEGIN:STANDARD
TZOFFSETFROM:-0400
TZOFFSETTO:-0500
TZNAME:EST
DTSTART:20271107T060000
END:STANDARD
END:VTIMEZONE
BEGIN:VEVENT
DTSTART;TZID=America/Toronto:20260227T180000
DTEND;TZID=America/Toronto:20260227T230000
DTSTAMP:20260419T223555
CREATED:20260117T014558Z
LAST-MODIFIED:20260117T015631Z
UID:7899-1772215200-1772233200@hamiltonmasons.ca
SUMMARY:2026 Table Lodge - Westmount Lodge No. 671
DESCRIPTION:Portion of the proceeds in support of Dystonia Research Foundation \n\n\n\nA special ceremony with ritual incorporating terminology from centuries ago.Celebrate with toasts and a great evening of fellowship and revelry! \n\n\n\nIn Loving Memory of:R.W. Bro. D. Wayne Robinson &R.W. Bro. Dave Midgley \n\n\n\n$60.00 Per Ticket \n\n\n\nCall W.M. Karlous 289-682-7982\, J.W. Alex 905-541-3360S.D. Mike 905-515-7211 \n\n\n\nIncludes 3 Course DinnerPersonal Souvenir “Firing Cannon” used in Toasting Ritual. \n\n\n\nTable Lodge Westmount 671 2026 Flyer
URL:https://hamiltonmasons.ca/event/2026-table-lodge-westmount-lodge-no-671/
LOCATION:Hillcrest Masonic Temple\, 257 Mohawk Rd W.\, Hamilton\, on\, L9C 1W2\, Canada
CATEGORIES:Social Event,South District,Westmount Lodge No. 671
END:VEVENT
END:VCALENDAR