BEGIN:VCALENDAR
VERSION:2.0
PRODID:-//Hamilton Masons - ECPv6.15.20//NONSGML v1.0//EN
CALSCALE:GREGORIAN
METHOD:PUBLISH
X-ORIGINAL-URL:https://hamiltonmasons.ca
X-WR-CALDESC:Events for Hamilton Masons
REFRESH-INTERVAL;VALUE=DURATION:PT1H
X-Robots-Tag:noindex
X-PUBLISHED-TTL:PT1H
BEGIN:VTIMEZONE
TZID:America/Toronto
BEGIN:DAYLIGHT
TZOFFSETFROM:-0500
TZOFFSETTO:-0400
TZNAME:EDT
DTSTART:20250309T070000
END:DAYLIGHT
BEGIN:STANDARD
TZOFFSETFROM:-0400
TZOFFSETTO:-0500
TZNAME:EST
DTSTART:20251102T060000
END:STANDARD
BEGIN:DAYLIGHT
TZOFFSETFROM:-0500
TZOFFSETTO:-0400
TZNAME:EDT
DTSTART:20260308T070000
END:DAYLIGHT
BEGIN:STANDARD
TZOFFSETFROM:-0400
TZOFFSETTO:-0500
TZNAME:EST
DTSTART:20261101T060000
END:STANDARD
BEGIN:DAYLIGHT
TZOFFSETFROM:-0500
TZOFFSETTO:-0400
TZNAME:EDT
DTSTART:20270314T070000
END:DAYLIGHT
BEGIN:STANDARD
TZOFFSETFROM:-0400
TZOFFSETTO:-0500
TZNAME:EST
DTSTART:20271107T060000
END:STANDARD
END:VTIMEZONE
BEGIN:VEVENT
DTSTART;TZID=America/Toronto:20260324T193000
DTEND;TZID=America/Toronto:20260324T193000
DTSTAMP:20260419T205501
CREATED:20250907T140036Z
LAST-MODIFIED:20251016T021940Z
UID:3874-1774380600-1774380600@hamiltonmasons.ca
SUMMARY:Official Visit - Westmount No. 671
DESCRIPTION:Westmount No. 671
URL:https://hamiltonmasons.ca/event/official-visit-westmount-no-671/
LOCATION:on
CATEGORIES:Harmony Lodge No. 57,Official Visit,Regular Meeting,South District,Westmount Lodge No. 671
END:VEVENT
END:VCALENDAR