BEGIN:VCALENDAR
VERSION:2.0
PRODID:-//Hamilton Masons - ECPv6.15.20//NONSGML v1.0//EN
CALSCALE:GREGORIAN
METHOD:PUBLISH
X-WR-CALNAME:Hamilton Masons
X-ORIGINAL-URL:https://hamiltonmasons.ca
X-WR-CALDESC:Events for Hamilton Masons
REFRESH-INTERVAL;VALUE=DURATION:PT1H
X-Robots-Tag:noindex
X-PUBLISHED-TTL:PT1H
BEGIN:VTIMEZONE
TZID:America/Toronto
BEGIN:DAYLIGHT
TZOFFSETFROM:-0500
TZOFFSETTO:-0400
TZNAME:EDT
DTSTART:20250309T070000
END:DAYLIGHT
BEGIN:STANDARD
TZOFFSETFROM:-0400
TZOFFSETTO:-0500
TZNAME:EST
DTSTART:20251102T060000
END:STANDARD
BEGIN:DAYLIGHT
TZOFFSETFROM:-0500
TZOFFSETTO:-0400
TZNAME:EDT
DTSTART:20260308T070000
END:DAYLIGHT
BEGIN:STANDARD
TZOFFSETFROM:-0400
TZOFFSETTO:-0500
TZNAME:EST
DTSTART:20261101T060000
END:STANDARD
BEGIN:DAYLIGHT
TZOFFSETFROM:-0500
TZOFFSETTO:-0400
TZNAME:EDT
DTSTART:20270314T070000
END:DAYLIGHT
BEGIN:STANDARD
TZOFFSETFROM:-0400
TZOFFSETTO:-0500
TZNAME:EST
DTSTART:20271107T060000
END:STANDARD
END:VTIMEZONE
BEGIN:VTIMEZONE
TZID:America/New_York
BEGIN:DAYLIGHT
TZOFFSETFROM:-0500
TZOFFSETTO:-0400
TZNAME:EDT
DTSTART:20250309T070000
END:DAYLIGHT
BEGIN:STANDARD
TZOFFSETFROM:-0400
TZOFFSETTO:-0500
TZNAME:EST
DTSTART:20251102T060000
END:STANDARD
BEGIN:DAYLIGHT
TZOFFSETFROM:-0500
TZOFFSETTO:-0400
TZNAME:EDT
DTSTART:20260308T070000
END:DAYLIGHT
BEGIN:STANDARD
TZOFFSETFROM:-0400
TZOFFSETTO:-0500
TZNAME:EST
DTSTART:20261101T060000
END:STANDARD
BEGIN:DAYLIGHT
TZOFFSETFROM:-0500
TZOFFSETTO:-0400
TZNAME:EDT
DTSTART:20270314T070000
END:DAYLIGHT
BEGIN:STANDARD
TZOFFSETFROM:-0400
TZOFFSETTO:-0500
TZNAME:EST
DTSTART:20271107T060000
END:STANDARD
BEGIN:DAYLIGHT
TZOFFSETFROM:-0500
TZOFFSETTO:-0400
TZNAME:EDT
DTSTART:20280312T070000
END:DAYLIGHT
BEGIN:STANDARD
TZOFFSETFROM:-0400
TZOFFSETTO:-0500
TZNAME:EST
DTSTART:20281105T060000
END:STANDARD
END:VTIMEZONE
BEGIN:VEVENT
DTSTART;TZID=America/Toronto:20260421T000000
DTEND;TZID=America/Toronto:20260421T000000
DTSTAMP:20260419T112703
CREATED:20250907T140107Z
LAST-MODIFIED:20251016T020932Z
UID:3888-1776729600-1776729600@hamiltonmasons.ca
SUMMARY:Installation - Wentworth No. 166
DESCRIPTION:Wentworth No. 166
URL:https://hamiltonmasons.ca/event/installation-wentworth-no-166/
LOCATION:ON
CATEGORIES:Fraternal Visit,Installation,Regular Meeting,South District,Wentworth Lodge No. 166
END:VEVENT
BEGIN:VEVENT
DTSTART;TZID=America/Toronto:20260504T191400
DTEND;TZID=America/Toronto:20260504T191400
DTSTAMP:20260419T112703
CREATED:20251114T041831Z
LAST-MODIFIED:20251114T170109Z
UID:6535-1777922040-1777922040@hamiltonmasons.ca
SUMMARY:Regular Meeting
DESCRIPTION:No Content
URL:https://hamiltonmasons.ca/event/regular-meeting-43/
LOCATION:ON
CATEGORIES:Beach Lodge No. 475,beach_475,Regular Meeting,South District
END:VEVENT
BEGIN:VEVENT
DTSTART;TZID=America/New_York:20260506T193000
DTEND;TZID=America/New_York:20260506T220000
DTSTAMP:20260419T112703
CREATED:20251223T155221Z
LAST-MODIFIED:20251223T161927Z
UID:6970-1778095800-1778104800@hamiltonmasons.ca
SUMMARY:Regular Meeting St. Clair Lodge No 135
DESCRIPTION:
URL:https://hamiltonmasons.ca/event/regular-meeting-st-clair-lodge-no-135-5/
LOCATION:ON
CATEGORIES:North District,Regular Meeting,St. Clair Lodge No. 135
END:VEVENT
BEGIN:VEVENT
DTSTART;TZID=America/Toronto:20260507T000000
DTEND;TZID=America/Toronto:20260507T000000
DTSTAMP:20260419T112703
CREATED:20250907T140121Z
LAST-MODIFIED:20251016T021243Z
UID:3889-1778112000-1778112000@hamiltonmasons.ca
SUMMARY:Installation - Buchanan No. 550
DESCRIPTION:Buchanan No. 550
URL:https://hamiltonmasons.ca/event/installation-buchanan-no-550/
LOCATION:ON
CATEGORIES:Buchanan Lodge No. 550,Fraternal Visit,Installation,Regular Meeting,South District
END:VEVENT
BEGIN:VEVENT
DTSTART;TZID=America/Toronto:20260512T193000
DTEND;TZID=America/Toronto:20260512T193000
DTSTAMP:20260419T112703
CREATED:20250907T140036Z
LAST-MODIFIED:20251016T020718Z
UID:3876-1778614200-1778614200@hamiltonmasons.ca
SUMMARY:Official Visit - Hillcrest No. 594
DESCRIPTION:Hillcrest No. 594
URL:https://hamiltonmasons.ca/event/official-visit-hillcrest-no-594/
LOCATION:ON
CATEGORIES:Electric Valley Lodge No. 100,Hillcrest Lodge No. 594,Installation,Official Visit,Regular Meeting,South District
END:VEVENT
BEGIN:VEVENT
DTSTART;TZID=America/Toronto:20260512T193000
DTEND;TZID=America/Toronto:20260512T220000
DTSTAMP:20260419T112703
CREATED:20250907T140037Z
LAST-MODIFIED:20251016T020621Z
UID:3878-1778614200-1778623200@hamiltonmasons.ca
SUMMARY:Official Visit - Seymour No. 272
DESCRIPTION:Seymour No. 272
URL:https://hamiltonmasons.ca/event/official-visit-seymour-no-272/
LOCATION:ON
CATEGORIES:Official Visit,Regular Meeting,Seymour Lodge No. 272,South District,Union Lodge No. 7
END:VEVENT
BEGIN:VEVENT
DTSTART;TZID=America/Toronto:20260520T191400
DTEND;TZID=America/Toronto:20260520T221400
DTSTAMP:20260419T112703
CREATED:20251010T020825Z
LAST-MODIFIED:20251016T020118Z
UID:4455-1779304440-1779315240@hamiltonmasons.ca
SUMMARY:Regular Meeting
DESCRIPTION:No Content
URL:https://hamiltonmasons.ca/event/regular-meeting-12/
LOCATION:ON
CATEGORIES:Battlefield Lodge No. 61,Regular Meeting,South District
END:VEVENT
BEGIN:VEVENT
DTSTART;TZID=America/Toronto:20260526T193000
DTEND;TZID=America/Toronto:20260526T220000
DTSTAMP:20260419T112703
CREATED:20250907T140121Z
LAST-MODIFIED:20251016T015753Z
UID:3890-1779823800-1779832800@hamiltonmasons.ca
SUMMARY:Installation - Landmarks Temple No. 324
DESCRIPTION:Landmarks Temple No. 324
URL:https://hamiltonmasons.ca/event/installation-landmarks-temple-no-324/
LOCATION:ON
CATEGORIES:Installation,Landmarks Temple Lodge No.324,Official Visit,Regular Meeting,South District
END:VEVENT
BEGIN:VEVENT
DTSTART;TZID=America/New_York:20260603T193000
DTEND;TZID=America/New_York:20260603T220000
DTSTAMP:20260419T112703
CREATED:20251223T155225Z
LAST-MODIFIED:20251223T161928Z
UID:6971-1780515000-1780524000@hamiltonmasons.ca
SUMMARY:Regular Meeting St. Clair Lodge No 135
DESCRIPTION:
URL:https://hamiltonmasons.ca/event/regular-meeting-st-clair-lodge-no-135-6/
LOCATION:ON
CATEGORIES:North District,Regular Meeting,St. Clair Lodge No. 135
END:VEVENT
BEGIN:VEVENT
DTSTART;TZID=America/Toronto:20260608T193000
DTEND;TZID=America/Toronto:20260608T220000
DTSTAMP:20260419T112703
CREATED:20250907T140121Z
LAST-MODIFIED:20251016T020020Z
UID:3891-1780947000-1780956000@hamiltonmasons.ca
SUMMARY:Installation - Electric Valley No. 100
DESCRIPTION:Electric Valley No. 100
URL:https://hamiltonmasons.ca/event/installation-electric-valley-no-100/
LOCATION:ON
CATEGORIES:Electric Valley Lodge No. 100,Installation,Official Visit,Regular Meeting,South District
END:VEVENT
BEGIN:VEVENT
DTSTART;TZID=America/Toronto:20260610T193000
DTEND;TZID=America/Toronto:20260610T220000
DTSTAMP:20260419T112703
CREATED:20250907T140122Z
LAST-MODIFIED:20251016T015925Z
UID:3892-1781119800-1781128800@hamiltonmasons.ca
SUMMARY:Installation - Meridian No. 513
DESCRIPTION:Meridian No. 513
URL:https://hamiltonmasons.ca/event/installation-meridian-no-513/
LOCATION:ON
CATEGORIES:Installation,Meridian Lodge No. 513,Official Visit,Regular Meeting,South District
END:VEVENT
BEGIN:VEVENT
DTSTART;TZID=America/Toronto:20260617T191400
DTEND;TZID=America/Toronto:20260617T221400
DTSTAMP:20260419T112703
CREATED:20251010T020825Z
LAST-MODIFIED:20251016T015822Z
UID:4456-1781723640-1781734440@hamiltonmasons.ca
SUMMARY:Regular Meeting
DESCRIPTION:No Content
URL:https://hamiltonmasons.ca/event/regular-meeting-13/
LOCATION:ON
CATEGORIES:Battlefield Lodge No. 61,Regular Meeting
END:VEVENT
BEGIN:VEVENT
DTSTART;TZID=America/Toronto:20260618T193000
DTEND;TZID=America/Toronto:20260618T220000
DTSTAMP:20260419T112703
CREATED:20250907T140122Z
LAST-MODIFIED:20251016T015651Z
UID:3893-1781811000-1781820000@hamiltonmasons.ca
SUMMARY:Installation - Union No. 7
DESCRIPTION:Union No. 7
URL:https://hamiltonmasons.ca/event/installation-union-no-7/
LOCATION:ON
CATEGORIES:Installation,Official Visit,Regular Meeting,South District,Union Lodge No. 7
END:VEVENT
BEGIN:VEVENT
DTSTART;TZID=America/Toronto:20260623T193000
DTEND;TZID=America/Toronto:20260623T220000
DTSTAMP:20260419T112703
CREATED:20250907T140407Z
LAST-MODIFIED:20251016T015529Z
UID:3911-1782243000-1782252000@hamiltonmasons.ca
SUMMARY:23rd DDGM Homecoming
DESCRIPTION:
URL:https://hamiltonmasons.ca/event/23rd-ddgm-homecoming/
LOCATION:ON
CATEGORIES:Fraternal Visit,Landmarks Temple Lodge No.324,Other,Regular Meeting,South District
END:VEVENT
BEGIN:VEVENT
DTSTART;TZID=America/New_York:20260902T193000
DTEND;TZID=America/New_York:20260902T220000
DTSTAMP:20260419T112703
CREATED:20251223T155226Z
LAST-MODIFIED:20251223T161929Z
UID:6972-1788377400-1788386400@hamiltonmasons.ca
SUMMARY:Regular Meeting St. Clair Lodge No 135
DESCRIPTION:
URL:https://hamiltonmasons.ca/event/regular-meeting-st-clair-lodge-no-135-7/
LOCATION:ON
CATEGORIES:North District,Regular Meeting,St. Clair Lodge No. 135
END:VEVENT
BEGIN:VEVENT
DTSTART;TZID=America/Toronto:20260916T191400
DTEND;TZID=America/Toronto:20260916T221400
DTSTAMP:20260419T112703
CREATED:20251010T020825Z
LAST-MODIFIED:20251016T015237Z
UID:4457-1789586040-1789596840@hamiltonmasons.ca
SUMMARY:Regular Meeting
DESCRIPTION:No Content
URL:https://hamiltonmasons.ca/event/regular-meeting-14/
LOCATION:ON
CATEGORIES:Battlefield Lodge No. 61,Regular Meeting
END:VEVENT
BEGIN:VEVENT
DTSTART;TZID=America/New_York:20260916T193000
DTEND;TZID=America/New_York:20260916T220000
DTSTAMP:20260419T112703
CREATED:20251019T140806Z
LAST-MODIFIED:20251019T140806Z
UID:4937-1789587000-1789596000@hamiltonmasons.ca
SUMMARY:Regular Meeting
DESCRIPTION:Regular Meeting — Welcome Back.
URL:https://hamiltonmasons.ca/event/regular-meeting-22/
LOCATION:Masonic Centre of Hamilton\, 4 Queen Street South\, Hamilton\, ON\, L8P 3R3\, Canada
CATEGORIES:Hugh Murray Lodge No. 602,Regular Meeting
ORGANIZER;CN="Hugh Murray Lodge No. 602":MAILTO:info@hughmurray602.ca
END:VEVENT
BEGIN:VEVENT
DTSTART;TZID=America/New_York:20261007T193000
DTEND;TZID=America/New_York:20261007T220000
DTSTAMP:20260419T112703
CREATED:20251223T155227Z
LAST-MODIFIED:20251223T161929Z
UID:6973-1791401400-1791410400@hamiltonmasons.ca
SUMMARY:Regular Meeting St. Clair Lodge No 135
DESCRIPTION:
URL:https://hamiltonmasons.ca/event/regular-meeting-st-clair-lodge-no-135-8/
LOCATION:ON
CATEGORIES:North District,Regular Meeting,St. Clair Lodge No. 135
END:VEVENT
BEGIN:VEVENT
DTSTART;TZID=America/Toronto:20261021T191400
DTEND;TZID=America/Toronto:20261021T221400
DTSTAMP:20260419T112703
CREATED:20251010T020826Z
LAST-MODIFIED:20251016T015210Z
UID:4458-1792610040-1792620840@hamiltonmasons.ca
SUMMARY:Regular Meeting
DESCRIPTION:No Content
URL:https://hamiltonmasons.ca/event/regular-meeting-15/
LOCATION:ON
CATEGORIES:Battlefield Lodge No. 61,Regular Meeting
END:VEVENT
BEGIN:VEVENT
DTSTART;TZID=America/New_York:20261021T193000
DTEND;TZID=America/New_York:20261021T220000
DTSTAMP:20260419T112703
CREATED:20251019T140810Z
LAST-MODIFIED:20251019T140810Z
UID:4939-1792611000-1792620000@hamiltonmasons.ca
SUMMARY:Regular Meeting
DESCRIPTION:Regular Meeting — Official Visit
URL:https://hamiltonmasons.ca/event/regular-meeting-23/
LOCATION:Masonic Centre of Hamilton\, 4 Queen Street South\, Hamilton\, ON\, L8P 3R3\, Canada
CATEGORIES:Hugh Murray Lodge No. 602,Regular Meeting
ORGANIZER;CN="Hugh Murray Lodge No. 602":MAILTO:info@hughmurray602.ca
END:VEVENT
BEGIN:VEVENT
DTSTART;TZID=America/New_York:20261104T193000
DTEND;TZID=America/New_York:20261104T220000
DTSTAMP:20260419T112703
CREATED:20251223T155228Z
LAST-MODIFIED:20251223T161929Z
UID:6974-1793820600-1793829600@hamiltonmasons.ca
SUMMARY:Regular Meeting St. Clair Lodge No 135
DESCRIPTION:
URL:https://hamiltonmasons.ca/event/regular-meeting-st-clair-lodge-no-135-9/
LOCATION:ON
CATEGORIES:North District,Regular Meeting,St. Clair Lodge No. 135
END:VEVENT
BEGIN:VEVENT
DTSTART;TZID=America/Toronto:20261118T191400
DTEND;TZID=America/Toronto:20261118T221400
DTSTAMP:20260419T112703
CREATED:20251010T020826Z
LAST-MODIFIED:20251016T015138Z
UID:4459-1795029240-1795040040@hamiltonmasons.ca
SUMMARY:Regular Meeting
DESCRIPTION:No Content
URL:https://hamiltonmasons.ca/event/regular-meeting-16/
LOCATION:ON
CATEGORIES:Battlefield Lodge No. 61,Regular Meeting
END:VEVENT
BEGIN:VEVENT
DTSTART;TZID=America/New_York:20261125T193000
DTEND;TZID=America/New_York:20261125T220000
DTSTAMP:20260419T112703
CREATED:20251019T140818Z
LAST-MODIFIED:20251019T140818Z
UID:4942-1795635000-1795644000@hamiltonmasons.ca
SUMMARY:Regular Meeting
DESCRIPTION:Regular Meeting — Memorial Service and Elections
URL:https://hamiltonmasons.ca/event/regular-meeting-24/
LOCATION:Masonic Centre of Hamilton\, 4 Queen Street South\, Hamilton\, ON\, L8P 3R3\, Canada
CATEGORIES:Hugh Murray Lodge No. 602,Regular Meeting
ORGANIZER;CN="Hugh Murray Lodge No. 602":MAILTO:info@hughmurray602.ca
END:VEVENT
BEGIN:VEVENT
DTSTART;TZID=America/New_York:20261202T193000
DTEND;TZID=America/New_York:20261202T220000
DTSTAMP:20260419T112703
CREATED:20251223T155229Z
LAST-MODIFIED:20251223T161929Z
UID:6975-1796239800-1796248800@hamiltonmasons.ca
SUMMARY:Regular Meeting St. Clair Lodge No 135
DESCRIPTION:
URL:https://hamiltonmasons.ca/event/regular-meeting-st-clair-lodge-no-135-10/
LOCATION:ON
CATEGORIES:North District,Regular Meeting,St. Clair Lodge No. 135
END:VEVENT
BEGIN:VEVENT
DTSTART;TZID=America/Toronto:20261216T191400
DTEND;TZID=America/Toronto:20261216T221400
DTSTAMP:20260419T112703
CREATED:20251010T020840Z
LAST-MODIFIED:20251016T015041Z
UID:4460-1797448440-1797459240@hamiltonmasons.ca
SUMMARY:Regular Meeting
DESCRIPTION:No Content
URL:https://hamiltonmasons.ca/event/regular-meeting-17/
LOCATION:ON
CATEGORIES:Battlefield Lodge No. 61,Regular Meeting
END:VEVENT
BEGIN:VEVENT
DTSTART;TZID=America/New_York:20261230T193000
DTEND;TZID=America/New_York:20261230T220000
DTSTAMP:20260419T112703
CREATED:20251019T140819Z
LAST-MODIFIED:20251019T140819Z
UID:4945-1798659000-1798668000@hamiltonmasons.ca
SUMMARY:Regular Meeting
DESCRIPTION:Regular Meeting — Installation
URL:https://hamiltonmasons.ca/event/regular-meeting-25/
LOCATION:Masonic Centre of Hamilton\, 4 Queen Street South\, Hamilton\, ON\, L8P 3R3\, Canada
CATEGORIES:Hugh Murray Lodge No. 602,Regular Meeting
ORGANIZER;CN="Hugh Murray Lodge No. 602":MAILTO:info@hughmurray602.ca
END:VEVENT
BEGIN:VEVENT
DTSTART;TZID=America/New_York:20270106T193000
DTEND;TZID=America/New_York:20270106T220000
DTSTAMP:20260419T112703
CREATED:20251223T155239Z
LAST-MODIFIED:20251223T161944Z
UID:6976-1799263800-1799272800@hamiltonmasons.ca
SUMMARY:Regular Meeting St. Clair Lodge No 135
DESCRIPTION:
URL:https://hamiltonmasons.ca/event/regular-meeting-st-clair-lodge-no-135-11/
LOCATION:ON
CATEGORIES:North District,Regular Meeting,St. Clair Lodge No. 135
END:VEVENT
BEGIN:VEVENT
DTSTART;TZID=America/New_York:20270203T193000
DTEND;TZID=America/New_York:20270203T220000
DTSTAMP:20260419T112703
CREATED:20251019T140833Z
LAST-MODIFIED:20251019T140833Z
UID:4948-1801683000-1801692000@hamiltonmasons.ca
SUMMARY:Regular Meeting
DESCRIPTION:Regular Meeting — Happy New Year
URL:https://hamiltonmasons.ca/event/regular-meeting-26/
LOCATION:Masonic Centre of Hamilton\, 4 Queen Street South\, Hamilton\, ON\, L8P 3R3\, Canada
CATEGORIES:Hugh Murray Lodge No. 602,Regular Meeting
ORGANIZER;CN="Hugh Murray Lodge No. 602":MAILTO:info@hughmurray602.ca
END:VEVENT
BEGIN:VEVENT
DTSTART;TZID=America/New_York:20270203T193000
DTEND;TZID=America/New_York:20270203T220000
DTSTAMP:20260419T112703
CREATED:20251223T155240Z
LAST-MODIFIED:20251223T161944Z
UID:6977-1801683000-1801692000@hamiltonmasons.ca
SUMMARY:Regular Meeting St. Clair Lodge No 135
DESCRIPTION:
URL:https://hamiltonmasons.ca/event/regular-meeting-st-clair-lodge-no-135-12/
LOCATION:ON
CATEGORIES:North District,Regular Meeting,St. Clair Lodge No. 135
END:VEVENT
BEGIN:VEVENT
DTSTART;TZID=America/New_York:20270303T193000
DTEND;TZID=America/New_York:20270303T220000
DTSTAMP:20260419T112703
CREATED:20251223T155240Z
LAST-MODIFIED:20251223T161944Z
UID:6978-1804102200-1804111200@hamiltonmasons.ca
SUMMARY:Regular Meeting St. Clair Lodge No 135
DESCRIPTION:
URL:https://hamiltonmasons.ca/event/regular-meeting-st-clair-lodge-no-135-13/
LOCATION:ON
CATEGORIES:North District,Regular Meeting,St. Clair Lodge No. 135
END:VEVENT
END:VCALENDAR