BEGIN:VCALENDAR
VERSION:2.0
PRODID:-//Hamilton Masons - ECPv6.15.20//NONSGML v1.0//EN
CALSCALE:GREGORIAN
METHOD:PUBLISH
X-ORIGINAL-URL:https://hamiltonmasons.ca
X-WR-CALDESC:Events for Hamilton Masons
REFRESH-INTERVAL;VALUE=DURATION:PT1H
X-Robots-Tag:noindex
X-PUBLISHED-TTL:PT1H
BEGIN:VTIMEZONE
TZID:America/Toronto
BEGIN:DAYLIGHT
TZOFFSETFROM:-0500
TZOFFSETTO:-0400
TZNAME:EDT
DTSTART:20250309T070000
END:DAYLIGHT
BEGIN:STANDARD
TZOFFSETFROM:-0400
TZOFFSETTO:-0500
TZNAME:EST
DTSTART:20251102T060000
END:STANDARD
BEGIN:DAYLIGHT
TZOFFSETFROM:-0500
TZOFFSETTO:-0400
TZNAME:EDT
DTSTART:20260308T070000
END:DAYLIGHT
BEGIN:STANDARD
TZOFFSETFROM:-0400
TZOFFSETTO:-0500
TZNAME:EST
DTSTART:20261101T060000
END:STANDARD
BEGIN:DAYLIGHT
TZOFFSETFROM:-0500
TZOFFSETTO:-0400
TZNAME:EDT
DTSTART:20270314T070000
END:DAYLIGHT
BEGIN:STANDARD
TZOFFSETFROM:-0400
TZOFFSETTO:-0500
TZNAME:EST
DTSTART:20271107T060000
END:STANDARD
END:VTIMEZONE
BEGIN:VEVENT
DTSTART;TZID=America/Toronto:20260516T090000
DTEND;TZID=America/Toronto:20260516T120000
DTSTAMP:20260419T145724
CREATED:20251008T023103Z
LAST-MODIFIED:20251016T020406Z
UID:4397-1778922000-1778932800@hamiltonmasons.ca
SUMMARY:North District Spring Meeting
DESCRIPTION:
URL:https://hamiltonmasons.ca/event/north-district-spring-meeting/
CATEGORIES:District Meeting,District Spring Meeting,North District
END:VEVENT
BEGIN:VEVENT
DTSTART;TZID=America/Toronto:20260523T090000
DTEND;TZID=America/Toronto:20260523T120000
DTSTAMP:20260419T145724
CREATED:20250907T140406Z
LAST-MODIFIED:20251016T020242Z
UID:3909-1779526800-1779537600@hamiltonmasons.ca
SUMMARY:Spring District Meeting
DESCRIPTION:Casterville Temple 9:30 am
URL:https://hamiltonmasons.ca/event/spring-district-meeting/
CATEGORIES:District Meeting,District Spring Meeting,South District
END:VEVENT
END:VCALENDAR