BEGIN:VCALENDAR
VERSION:2.0
PRODID:-//Hamilton Masons - ECPv6.15.20//NONSGML v1.0//EN
CALSCALE:GREGORIAN
METHOD:PUBLISH
X-WR-CALNAME:Hamilton Masons
X-ORIGINAL-URL:https://hamiltonmasons.ca
X-WR-CALDESC:Events for Hamilton Masons
REFRESH-INTERVAL;VALUE=DURATION:PT1H
X-Robots-Tag:noindex
X-PUBLISHED-TTL:PT1H
BEGIN:VTIMEZONE
TZID:America/Toronto
BEGIN:DAYLIGHT
TZOFFSETFROM:-0500
TZOFFSETTO:-0400
TZNAME:EDT
DTSTART:20250309T070000
END:DAYLIGHT
BEGIN:STANDARD
TZOFFSETFROM:-0400
TZOFFSETTO:-0500
TZNAME:EST
DTSTART:20251102T060000
END:STANDARD
BEGIN:DAYLIGHT
TZOFFSETFROM:-0500
TZOFFSETTO:-0400
TZNAME:EDT
DTSTART:20260308T070000
END:DAYLIGHT
BEGIN:STANDARD
TZOFFSETFROM:-0400
TZOFFSETTO:-0500
TZNAME:EST
DTSTART:20261101T060000
END:STANDARD
BEGIN:DAYLIGHT
TZOFFSETFROM:-0500
TZOFFSETTO:-0400
TZNAME:EDT
DTSTART:20270314T070000
END:DAYLIGHT
BEGIN:STANDARD
TZOFFSETFROM:-0400
TZOFFSETTO:-0500
TZNAME:EST
DTSTART:20271107T060000
END:STANDARD
END:VTIMEZONE
BEGIN:VEVENT
DTSTART;TZID=America/Toronto:20260418T173000
DTEND;TZID=America/Toronto:20260418T230000
DTSTAMP:20260419T170738
CREATED:20251026T004757Z
LAST-MODIFIED:20251026T010946Z
UID:5423-1776533400-1776553200@hamiltonmasons.ca
SUMMARY:Grand Master's Reception 2026
DESCRIPTION:Welcome the Grand Master in 2026\n\n\n\n** REGISTRATIONS MAY BE MADE WITHOUT PAYMENT\, HOWEVER PAYMENT MUST BE RECEIVED NO LATER THAN FRIDAY MAY 15\, 2026. PAYMENT OPTIONS ARE DETAILED AFTER SUBMITTING YOUR REGISTRATION. \n\n\n\n\n\nGo to the Event PostDetails
URL:https://hamiltonmasons.ca/event/grand-masters-reception-2026/
LOCATION:Masonic Centre of Hamilton\, 4 Queen Street South\, Hamilton\, ON\, L8P 3R3\, Canada
CATEGORIES:Past Masters' Association Meeting,Social
ATTACH;FMTTYPE=image/jpeg:https://hamiltonmasons.ca/wp-content/uploads/2025/06/Grand-master-Jamie-Ireland-1229x1536-1.jpg
END:VEVENT
BEGIN:VEVENT
DTSTART;TZID=America/Toronto:20260418T173000
DTEND;TZID=America/Toronto:20260418T235959
DTSTAMP:20260419T170738
CREATED:20250907T140352Z
LAST-MODIFIED:20251016T021418Z
UID:3907-1776533400-1776556799@hamiltonmasons.ca
SUMMARY:Grand Master’s Banquet Reception
DESCRIPTION:5:30 pm & Dinner 7:00 pm Ancient & Accepted Scottish Rite (M.C.H.) 4 Queen St. S. Hamilton\, ON
URL:https://hamiltonmasons.ca/event/grand-masters-banquet-reception/
LOCATION:Masonic Centre of Hamilton\, 4 Queen Street South\, Hamilton\, ON\, L8P 3R3\, Canada
CATEGORIES:North District,Social,South District
END:VEVENT
END:VCALENDAR