BEGIN:VCALENDAR
VERSION:2.0
PRODID:-//Hamilton Masons - ECPv6.15.20//NONSGML v1.0//EN
CALSCALE:GREGORIAN
METHOD:PUBLISH
X-WR-CALNAME:Hamilton Masons
X-ORIGINAL-URL:https://hamiltonmasons.ca
X-WR-CALDESC:Events for Hamilton Masons
REFRESH-INTERVAL;VALUE=DURATION:PT1H
X-Robots-Tag:noindex
X-PUBLISHED-TTL:PT1H
BEGIN:VTIMEZONE
TZID:America/Toronto
BEGIN:DAYLIGHT
TZOFFSETFROM:-0500
TZOFFSETTO:-0400
TZNAME:EDT
DTSTART:19690427T070000
END:DAYLIGHT
BEGIN:STANDARD
TZOFFSETFROM:-0400
TZOFFSETTO:-0500
TZNAME:EST
DTSTART:19691026T060000
END:STANDARD
BEGIN:DAYLIGHT
TZOFFSETFROM:-0500
TZOFFSETTO:-0400
TZNAME:EDT
DTSTART:19700426T070000
END:DAYLIGHT
BEGIN:STANDARD
TZOFFSETFROM:-0400
TZOFFSETTO:-0500
TZNAME:EST
DTSTART:19701025T060000
END:STANDARD
BEGIN:DAYLIGHT
TZOFFSETFROM:-0500
TZOFFSETTO:-0400
TZNAME:EDT
DTSTART:19710425T070000
END:DAYLIGHT
BEGIN:STANDARD
TZOFFSETFROM:-0400
TZOFFSETTO:-0500
TZNAME:EST
DTSTART:19711031T060000
END:STANDARD
BEGIN:DAYLIGHT
TZOFFSETFROM:-0500
TZOFFSETTO:-0400
TZNAME:EDT
DTSTART:19720430T070000
END:DAYLIGHT
BEGIN:STANDARD
TZOFFSETFROM:-0400
TZOFFSETTO:-0500
TZNAME:EST
DTSTART:19721029T060000
END:STANDARD
BEGIN:DAYLIGHT
TZOFFSETFROM:-0500
TZOFFSETTO:-0400
TZNAME:EDT
DTSTART:19730429T070000
END:DAYLIGHT
BEGIN:STANDARD
TZOFFSETFROM:-0400
TZOFFSETTO:-0500
TZNAME:EST
DTSTART:19731028T060000
END:STANDARD
BEGIN:DAYLIGHT
TZOFFSETFROM:-0500
TZOFFSETTO:-0400
TZNAME:EDT
DTSTART:19740428T070000
END:DAYLIGHT
BEGIN:STANDARD
TZOFFSETFROM:-0400
TZOFFSETTO:-0500
TZNAME:EST
DTSTART:19741027T060000
END:STANDARD
BEGIN:DAYLIGHT
TZOFFSETFROM:-0500
TZOFFSETTO:-0400
TZNAME:EDT
DTSTART:19750427T070000
END:DAYLIGHT
BEGIN:STANDARD
TZOFFSETFROM:-0400
TZOFFSETTO:-0500
TZNAME:EST
DTSTART:19751026T060000
END:STANDARD
BEGIN:DAYLIGHT
TZOFFSETFROM:-0500
TZOFFSETTO:-0400
TZNAME:EDT
DTSTART:19760425T070000
END:DAYLIGHT
BEGIN:STANDARD
TZOFFSETFROM:-0400
TZOFFSETTO:-0500
TZNAME:EST
DTSTART:19761031T060000
END:STANDARD
BEGIN:DAYLIGHT
TZOFFSETFROM:-0500
TZOFFSETTO:-0400
TZNAME:EDT
DTSTART:19770424T070000
END:DAYLIGHT
BEGIN:STANDARD
TZOFFSETFROM:-0400
TZOFFSETTO:-0500
TZNAME:EST
DTSTART:19771030T060000
END:STANDARD
BEGIN:DAYLIGHT
TZOFFSETFROM:-0500
TZOFFSETTO:-0400
TZNAME:EDT
DTSTART:19780430T070000
END:DAYLIGHT
BEGIN:STANDARD
TZOFFSETFROM:-0400
TZOFFSETTO:-0500
TZNAME:EST
DTSTART:19781029T060000
END:STANDARD
BEGIN:DAYLIGHT
TZOFFSETFROM:-0500
TZOFFSETTO:-0400
TZNAME:EDT
DTSTART:19790429T070000
END:DAYLIGHT
BEGIN:STANDARD
TZOFFSETFROM:-0400
TZOFFSETTO:-0500
TZNAME:EST
DTSTART:19791028T060000
END:STANDARD
BEGIN:DAYLIGHT
TZOFFSETFROM:-0500
TZOFFSETTO:-0400
TZNAME:EDT
DTSTART:19800427T070000
END:DAYLIGHT
BEGIN:STANDARD
TZOFFSETFROM:-0400
TZOFFSETTO:-0500
TZNAME:EST
DTSTART:19801026T060000
END:STANDARD
BEGIN:DAYLIGHT
TZOFFSETFROM:-0500
TZOFFSETTO:-0400
TZNAME:EDT
DTSTART:19810426T070000
END:DAYLIGHT
BEGIN:STANDARD
TZOFFSETFROM:-0400
TZOFFSETTO:-0500
TZNAME:EST
DTSTART:19811025T060000
END:STANDARD
BEGIN:DAYLIGHT
TZOFFSETFROM:-0500
TZOFFSETTO:-0400
TZNAME:EDT
DTSTART:19820425T070000
END:DAYLIGHT
BEGIN:STANDARD
TZOFFSETFROM:-0400
TZOFFSETTO:-0500
TZNAME:EST
DTSTART:19821031T060000
END:STANDARD
BEGIN:DAYLIGHT
TZOFFSETFROM:-0500
TZOFFSETTO:-0400
TZNAME:EDT
DTSTART:19830424T070000
END:DAYLIGHT
BEGIN:STANDARD
TZOFFSETFROM:-0400
TZOFFSETTO:-0500
TZNAME:EST
DTSTART:19831030T060000
END:STANDARD
BEGIN:DAYLIGHT
TZOFFSETFROM:-0500
TZOFFSETTO:-0400
TZNAME:EDT
DTSTART:19840429T070000
END:DAYLIGHT
BEGIN:STANDARD
TZOFFSETFROM:-0400
TZOFFSETTO:-0500
TZNAME:EST
DTSTART:19841028T060000
END:STANDARD
BEGIN:DAYLIGHT
TZOFFSETFROM:-0500
TZOFFSETTO:-0400
TZNAME:EDT
DTSTART:19850428T070000
END:DAYLIGHT
BEGIN:STANDARD
TZOFFSETFROM:-0400
TZOFFSETTO:-0500
TZNAME:EST
DTSTART:19851027T060000
END:STANDARD
BEGIN:DAYLIGHT
TZOFFSETFROM:-0500
TZOFFSETTO:-0400
TZNAME:EDT
DTSTART:19860427T070000
END:DAYLIGHT
BEGIN:STANDARD
TZOFFSETFROM:-0400
TZOFFSETTO:-0500
TZNAME:EST
DTSTART:19861026T060000
END:STANDARD
BEGIN:DAYLIGHT
TZOFFSETFROM:-0500
TZOFFSETTO:-0400
TZNAME:EDT
DTSTART:19870405T070000
END:DAYLIGHT
BEGIN:STANDARD
TZOFFSETFROM:-0400
TZOFFSETTO:-0500
TZNAME:EST
DTSTART:19871025T060000
END:STANDARD
BEGIN:DAYLIGHT
TZOFFSETFROM:-0500
TZOFFSETTO:-0400
TZNAME:EDT
DTSTART:19880403T070000
END:DAYLIGHT
BEGIN:STANDARD
TZOFFSETFROM:-0400
TZOFFSETTO:-0500
TZNAME:EST
DTSTART:19881030T060000
END:STANDARD
BEGIN:DAYLIGHT
TZOFFSETFROM:-0500
TZOFFSETTO:-0400
TZNAME:EDT
DTSTART:19890402T070000
END:DAYLIGHT
BEGIN:STANDARD
TZOFFSETFROM:-0400
TZOFFSETTO:-0500
TZNAME:EST
DTSTART:19891029T060000
END:STANDARD
BEGIN:DAYLIGHT
TZOFFSETFROM:-0500
TZOFFSETTO:-0400
TZNAME:EDT
DTSTART:19900401T070000
END:DAYLIGHT
BEGIN:STANDARD
TZOFFSETFROM:-0400
TZOFFSETTO:-0500
TZNAME:EST
DTSTART:19901028T060000
END:STANDARD
BEGIN:DAYLIGHT
TZOFFSETFROM:-0500
TZOFFSETTO:-0400
TZNAME:EDT
DTSTART:19910407T070000
END:DAYLIGHT
BEGIN:STANDARD
TZOFFSETFROM:-0400
TZOFFSETTO:-0500
TZNAME:EST
DTSTART:19911027T060000
END:STANDARD
BEGIN:DAYLIGHT
TZOFFSETFROM:-0500
TZOFFSETTO:-0400
TZNAME:EDT
DTSTART:19920405T070000
END:DAYLIGHT
BEGIN:STANDARD
TZOFFSETFROM:-0400
TZOFFSETTO:-0500
TZNAME:EST
DTSTART:19921025T060000
END:STANDARD
BEGIN:DAYLIGHT
TZOFFSETFROM:-0500
TZOFFSETTO:-0400
TZNAME:EDT
DTSTART:19930404T070000
END:DAYLIGHT
BEGIN:STANDARD
TZOFFSETFROM:-0400
TZOFFSETTO:-0500
TZNAME:EST
DTSTART:19931031T060000
END:STANDARD
BEGIN:DAYLIGHT
TZOFFSETFROM:-0500
TZOFFSETTO:-0400
TZNAME:EDT
DTSTART:19940403T070000
END:DAYLIGHT
BEGIN:STANDARD
TZOFFSETFROM:-0400
TZOFFSETTO:-0500
TZNAME:EST
DTSTART:19941030T060000
END:STANDARD
BEGIN:DAYLIGHT
TZOFFSETFROM:-0500
TZOFFSETTO:-0400
TZNAME:EDT
DTSTART:19950402T070000
END:DAYLIGHT
BEGIN:STANDARD
TZOFFSETFROM:-0400
TZOFFSETTO:-0500
TZNAME:EST
DTSTART:19951029T060000
END:STANDARD
BEGIN:DAYLIGHT
TZOFFSETFROM:-0500
TZOFFSETTO:-0400
TZNAME:EDT
DTSTART:19960407T070000
END:DAYLIGHT
BEGIN:STANDARD
TZOFFSETFROM:-0400
TZOFFSETTO:-0500
TZNAME:EST
DTSTART:19961027T060000
END:STANDARD
BEGIN:DAYLIGHT
TZOFFSETFROM:-0500
TZOFFSETTO:-0400
TZNAME:EDT
DTSTART:19970406T070000
END:DAYLIGHT
BEGIN:STANDARD
TZOFFSETFROM:-0400
TZOFFSETTO:-0500
TZNAME:EST
DTSTART:19971026T060000
END:STANDARD
BEGIN:DAYLIGHT
TZOFFSETFROM:-0500
TZOFFSETTO:-0400
TZNAME:EDT
DTSTART:19980405T070000
END:DAYLIGHT
BEGIN:STANDARD
TZOFFSETFROM:-0400
TZOFFSETTO:-0500
TZNAME:EST
DTSTART:19981025T060000
END:STANDARD
BEGIN:DAYLIGHT
TZOFFSETFROM:-0500
TZOFFSETTO:-0400
TZNAME:EDT
DTSTART:19990404T070000
END:DAYLIGHT
BEGIN:STANDARD
TZOFFSETFROM:-0400
TZOFFSETTO:-0500
TZNAME:EST
DTSTART:19991031T060000
END:STANDARD
BEGIN:DAYLIGHT
TZOFFSETFROM:-0500
TZOFFSETTO:-0400
TZNAME:EDT
DTSTART:20000402T070000
END:DAYLIGHT
BEGIN:STANDARD
TZOFFSETFROM:-0400
TZOFFSETTO:-0500
TZNAME:EST
DTSTART:20001029T060000
END:STANDARD
BEGIN:DAYLIGHT
TZOFFSETFROM:-0500
TZOFFSETTO:-0400
TZNAME:EDT
DTSTART:20010401T070000
END:DAYLIGHT
BEGIN:STANDARD
TZOFFSETFROM:-0400
TZOFFSETTO:-0500
TZNAME:EST
DTSTART:20011028T060000
END:STANDARD
BEGIN:DAYLIGHT
TZOFFSETFROM:-0500
TZOFFSETTO:-0400
TZNAME:EDT
DTSTART:20020407T070000
END:DAYLIGHT
BEGIN:STANDARD
TZOFFSETFROM:-0400
TZOFFSETTO:-0500
TZNAME:EST
DTSTART:20021027T060000
END:STANDARD
BEGIN:DAYLIGHT
TZOFFSETFROM:-0500
TZOFFSETTO:-0400
TZNAME:EDT
DTSTART:20030406T070000
END:DAYLIGHT
BEGIN:STANDARD
TZOFFSETFROM:-0400
TZOFFSETTO:-0500
TZNAME:EST
DTSTART:20031026T060000
END:STANDARD
BEGIN:DAYLIGHT
TZOFFSETFROM:-0500
TZOFFSETTO:-0400
TZNAME:EDT
DTSTART:20040404T070000
END:DAYLIGHT
BEGIN:STANDARD
TZOFFSETFROM:-0400
TZOFFSETTO:-0500
TZNAME:EST
DTSTART:20041031T060000
END:STANDARD
BEGIN:DAYLIGHT
TZOFFSETFROM:-0500
TZOFFSETTO:-0400
TZNAME:EDT
DTSTART:20050403T070000
END:DAYLIGHT
BEGIN:STANDARD
TZOFFSETFROM:-0400
TZOFFSETTO:-0500
TZNAME:EST
DTSTART:20051030T060000
END:STANDARD
BEGIN:DAYLIGHT
TZOFFSETFROM:-0500
TZOFFSETTO:-0400
TZNAME:EDT
DTSTART:20060402T070000
END:DAYLIGHT
BEGIN:STANDARD
TZOFFSETFROM:-0400
TZOFFSETTO:-0500
TZNAME:EST
DTSTART:20061029T060000
END:STANDARD
BEGIN:DAYLIGHT
TZOFFSETFROM:-0500
TZOFFSETTO:-0400
TZNAME:EDT
DTSTART:20070311T070000
END:DAYLIGHT
BEGIN:STANDARD
TZOFFSETFROM:-0400
TZOFFSETTO:-0500
TZNAME:EST
DTSTART:20071104T060000
END:STANDARD
BEGIN:DAYLIGHT
TZOFFSETFROM:-0500
TZOFFSETTO:-0400
TZNAME:EDT
DTSTART:20080309T070000
END:DAYLIGHT
BEGIN:STANDARD
TZOFFSETFROM:-0400
TZOFFSETTO:-0500
TZNAME:EST
DTSTART:20081102T060000
END:STANDARD
BEGIN:DAYLIGHT
TZOFFSETFROM:-0500
TZOFFSETTO:-0400
TZNAME:EDT
DTSTART:20090308T070000
END:DAYLIGHT
BEGIN:STANDARD
TZOFFSETFROM:-0400
TZOFFSETTO:-0500
TZNAME:EST
DTSTART:20091101T060000
END:STANDARD
BEGIN:DAYLIGHT
TZOFFSETFROM:-0500
TZOFFSETTO:-0400
TZNAME:EDT
DTSTART:20100314T070000
END:DAYLIGHT
BEGIN:STANDARD
TZOFFSETFROM:-0400
TZOFFSETTO:-0500
TZNAME:EST
DTSTART:20101107T060000
END:STANDARD
BEGIN:DAYLIGHT
TZOFFSETFROM:-0500
TZOFFSETTO:-0400
TZNAME:EDT
DTSTART:20110313T070000
END:DAYLIGHT
BEGIN:STANDARD
TZOFFSETFROM:-0400
TZOFFSETTO:-0500
TZNAME:EST
DTSTART:20111106T060000
END:STANDARD
BEGIN:DAYLIGHT
TZOFFSETFROM:-0500
TZOFFSETTO:-0400
TZNAME:EDT
DTSTART:20120311T070000
END:DAYLIGHT
BEGIN:STANDARD
TZOFFSETFROM:-0400
TZOFFSETTO:-0500
TZNAME:EST
DTSTART:20121104T060000
END:STANDARD
BEGIN:DAYLIGHT
TZOFFSETFROM:-0500
TZOFFSETTO:-0400
TZNAME:EDT
DTSTART:20130310T070000
END:DAYLIGHT
BEGIN:STANDARD
TZOFFSETFROM:-0400
TZOFFSETTO:-0500
TZNAME:EST
DTSTART:20131103T060000
END:STANDARD
BEGIN:DAYLIGHT
TZOFFSETFROM:-0500
TZOFFSETTO:-0400
TZNAME:EDT
DTSTART:20140309T070000
END:DAYLIGHT
BEGIN:STANDARD
TZOFFSETFROM:-0400
TZOFFSETTO:-0500
TZNAME:EST
DTSTART:20141102T060000
END:STANDARD
BEGIN:DAYLIGHT
TZOFFSETFROM:-0500
TZOFFSETTO:-0400
TZNAME:EDT
DTSTART:20150308T070000
END:DAYLIGHT
BEGIN:STANDARD
TZOFFSETFROM:-0400
TZOFFSETTO:-0500
TZNAME:EST
DTSTART:20151101T060000
END:STANDARD
BEGIN:DAYLIGHT
TZOFFSETFROM:-0500
TZOFFSETTO:-0400
TZNAME:EDT
DTSTART:20160313T070000
END:DAYLIGHT
BEGIN:STANDARD
TZOFFSETFROM:-0400
TZOFFSETTO:-0500
TZNAME:EST
DTSTART:20161106T060000
END:STANDARD
BEGIN:DAYLIGHT
TZOFFSETFROM:-0500
TZOFFSETTO:-0400
TZNAME:EDT
DTSTART:20170312T070000
END:DAYLIGHT
BEGIN:STANDARD
TZOFFSETFROM:-0400
TZOFFSETTO:-0500
TZNAME:EST
DTSTART:20171105T060000
END:STANDARD
BEGIN:DAYLIGHT
TZOFFSETFROM:-0500
TZOFFSETTO:-0400
TZNAME:EDT
DTSTART:20180311T070000
END:DAYLIGHT
BEGIN:STANDARD
TZOFFSETFROM:-0400
TZOFFSETTO:-0500
TZNAME:EST
DTSTART:20181104T060000
END:STANDARD
BEGIN:DAYLIGHT
TZOFFSETFROM:-0500
TZOFFSETTO:-0400
TZNAME:EDT
DTSTART:20190310T070000
END:DAYLIGHT
BEGIN:STANDARD
TZOFFSETFROM:-0400
TZOFFSETTO:-0500
TZNAME:EST
DTSTART:20191103T060000
END:STANDARD
BEGIN:DAYLIGHT
TZOFFSETFROM:-0500
TZOFFSETTO:-0400
TZNAME:EDT
DTSTART:20200308T070000
END:DAYLIGHT
BEGIN:STANDARD
TZOFFSETFROM:-0400
TZOFFSETTO:-0500
TZNAME:EST
DTSTART:20201101T060000
END:STANDARD
BEGIN:DAYLIGHT
TZOFFSETFROM:-0500
TZOFFSETTO:-0400
TZNAME:EDT
DTSTART:20210314T070000
END:DAYLIGHT
BEGIN:STANDARD
TZOFFSETFROM:-0400
TZOFFSETTO:-0500
TZNAME:EST
DTSTART:20211107T060000
END:STANDARD
BEGIN:DAYLIGHT
TZOFFSETFROM:-0500
TZOFFSETTO:-0400
TZNAME:EDT
DTSTART:20220313T070000
END:DAYLIGHT
BEGIN:STANDARD
TZOFFSETFROM:-0400
TZOFFSETTO:-0500
TZNAME:EST
DTSTART:20221106T060000
END:STANDARD
BEGIN:DAYLIGHT
TZOFFSETFROM:-0500
TZOFFSETTO:-0400
TZNAME:EDT
DTSTART:20230312T070000
END:DAYLIGHT
BEGIN:STANDARD
TZOFFSETFROM:-0400
TZOFFSETTO:-0500
TZNAME:EST
DTSTART:20231105T060000
END:STANDARD
BEGIN:DAYLIGHT
TZOFFSETFROM:-0500
TZOFFSETTO:-0400
TZNAME:EDT
DTSTART:20240310T070000
END:DAYLIGHT
BEGIN:STANDARD
TZOFFSETFROM:-0400
TZOFFSETTO:-0500
TZNAME:EST
DTSTART:20241103T060000
END:STANDARD
BEGIN:DAYLIGHT
TZOFFSETFROM:-0500
TZOFFSETTO:-0400
TZNAME:EDT
DTSTART:20250309T070000
END:DAYLIGHT
BEGIN:STANDARD
TZOFFSETFROM:-0400
TZOFFSETTO:-0500
TZNAME:EST
DTSTART:20251102T060000
END:STANDARD
BEGIN:DAYLIGHT
TZOFFSETFROM:-0500
TZOFFSETTO:-0400
TZNAME:EDT
DTSTART:20260308T070000
END:DAYLIGHT
BEGIN:STANDARD
TZOFFSETFROM:-0400
TZOFFSETTO:-0500
TZNAME:EST
DTSTART:20261101T060000
END:STANDARD
END:VTIMEZONE
BEGIN:VTIMEZONE
TZID:America/New_York
BEGIN:DAYLIGHT
TZOFFSETFROM:-0500
TZOFFSETTO:-0400
TZNAME:EDT
DTSTART:20240310T070000
END:DAYLIGHT
BEGIN:STANDARD
TZOFFSETFROM:-0400
TZOFFSETTO:-0500
TZNAME:EST
DTSTART:20241103T060000
END:STANDARD
BEGIN:DAYLIGHT
TZOFFSETFROM:-0500
TZOFFSETTO:-0400
TZNAME:EDT
DTSTART:20250309T070000
END:DAYLIGHT
BEGIN:STANDARD
TZOFFSETFROM:-0400
TZOFFSETTO:-0500
TZNAME:EST
DTSTART:20251102T060000
END:STANDARD
BEGIN:DAYLIGHT
TZOFFSETFROM:-0500
TZOFFSETTO:-0400
TZNAME:EDT
DTSTART:20260308T070000
END:DAYLIGHT
BEGIN:STANDARD
TZOFFSETFROM:-0400
TZOFFSETTO:-0500
TZNAME:EST
DTSTART:20261101T060000
END:STANDARD
END:VTIMEZONE
BEGIN:VEVENT
DTSTART;TZID=America/Toronto:20250928T010000
DTEND;TZID=America/Toronto:20250928T150000
DTSTAMP:20260420T020523
CREATED:20250909T030029Z
LAST-MODIFIED:20250909T194436Z
UID:3941-1759021200-1759071600@hamiltonmasons.ca
SUMMARY:Tribute to M.W. Bro. Ronald E. Groshaw
DESCRIPTION:Dress Code: Business Suit with Tie (No Regalia)Guests: Your lady/partner is very welcome.Grand Lodge will host a light reception following the tribute.We encourage all brethren to attend and honour his dedicated service to the Craft.
URL:https://hamiltonmasons.ca/event/tribute-to-m-w-bro-ronald-e-groshaw/
LOCATION:Masonic Centre of Hamilton\, 4 Queen Street South\, Hamilton\, ON\, L8P 3R3\, Canada
CATEGORIES:Memorial Service,Other,South District
END:VEVENT
BEGIN:VEVENT
DTSTART;TZID=America/Toronto:20250928T000000
DTEND;TZID=America/Toronto:20250928T000000
DTSTAMP:20260420T020523
CREATED:20250907T140137Z
LAST-MODIFIED:20250921T222940Z
UID:3898-1759017600-1759017600@hamiltonmasons.ca
SUMMARY:Hamilton Masonic Districts Board of Relief Fall Board Meeting
DESCRIPTION:Hillcrest Masonic Temple 2:00 – 4:00PM
URL:https://hamiltonmasons.ca/event/hamilton-masonic-districts-board-of-relief-fall-board-meeting/
LOCATION:ON
CATEGORIES:Board of Relief Meeting,South District
END:VEVENT
BEGIN:VEVENT
DTSTART;TZID=America/Toronto:20250927T093000
DTEND;TZID=America/Toronto:20250927T113000
DTSTAMP:20260420T020523
CREATED:20250907T140137Z
LAST-MODIFIED:20250923T021459Z
UID:3897-1758965400-1758972600@hamiltonmasons.ca
SUMMARY:Hamilton South District Meeting
DESCRIPTION:Agenda Hamilton South Fall 2025Download\n\n\n\nHamilton South District Trestle Board 2025Download
URL:https://hamiltonmasons.ca/event/hamilton-south-district-meeting/
LOCATION:Ancaster Temple\, 419 Wilson St E\, \, ON\, Hamilton\, Ontario\, L9G 2C4\, Canada
CATEGORIES:District Meeting,South District
END:VEVENT
BEGIN:VEVENT
DTSTART;TZID=America/New_York:20250924T190000
DTEND;TZID=America/New_York:20250924T210000
DTSTAMP:20260420T020523
CREATED:20251223T155604Z
LAST-MODIFIED:20251223T162029Z
UID:6992-1758740400-1758747600@hamiltonmasons.ca
SUMMARY:Emergent Meeting St. Clair Lodge No 135
DESCRIPTION:
URL:https://hamiltonmasons.ca/event/emergent-meeting-st-clair-lodge-no-135-7/
LOCATION:ON
CATEGORIES:Emergent Meeting,North District,St. Clair Lodge No. 135
END:VEVENT
BEGIN:VEVENT
DTSTART;TZID=America/Toronto:20250920T140000
DTEND;TZID=America/Toronto:20250920T200000
DTSTAMP:20260420T020523
CREATED:20251010T020855Z
LAST-MODIFIED:20251012T012426Z
UID:4465-1758376800-1758398400@hamiltonmasons.ca
SUMMARY:Annual Memorial Golf Tournament
DESCRIPTION:Saturday September 20th\, 2025 at\nOak Gables Golf Club\, 1505 Wilson St West\,\nJerseyville\, ON. L0R 1R0 Tee off time – 2:00 p.m.\n9 holes\, including cart and dinner (Chicken dinner\nincluding two sides) = $70 p.p.\nNo golf and dinner only = $25 p.p.  \nRSVP: email to Chris Anderson\nat chief.chrisanderson@gmail.com\nPAYMENT: e-transfer to Rod Mills\nat battlefieldfinance@gmail.com
URL:https://hamiltonmasons.ca/event/annual-memorial-golf-tournament/
LOCATION:ON
CATEGORIES:Regular Meeting
END:VEVENT
BEGIN:VEVENT
DTSTART;TZID=America/Toronto:20250920T090000
DTEND;TZID=America/Toronto:20250920T120000
DTSTAMP:20260420T020523
CREATED:20251008T022631Z
LAST-MODIFIED:20251008T022810Z
UID:4392-1758358800-1758369600@hamiltonmasons.ca
SUMMARY:North District Fall Meeting
DESCRIPTION:
URL:https://hamiltonmasons.ca/event/north-district-fall-meeting/
LOCATION:Milton Masonic Temple\, 6321 Regional Road 25\, Milton\, ON\, L0P1E0\, Canada
CATEGORIES:District Meeting,North District
END:VEVENT
BEGIN:VEVENT
DTSTART;TZID=America/Toronto:20250918T193000
DTEND;TZID=America/Toronto:20250918T220000
DTSTAMP:20260420T020523
CREATED:20260107T225119Z
LAST-MODIFIED:20260107T225119Z
UID:5349-1758223800-1758232800@hamiltonmasons.ca
SUMMARY:Installation - St. John's No. 40
DESCRIPTION:
URL:https://hamiltonmasons.ca/event/installation-st-johns-no-40/
LOCATION:Masonic Centre of Hamilton\, 4 Queen Street South\, Hamilton\, ON\, L8P 3R3\, Canada
CATEGORIES:District,Installation,Lodge Work,North District,St. John's Lodge No. 40
END:VEVENT
BEGIN:VEVENT
DTSTART;TZID=America/Toronto:20250918T193000
DTEND;TZID=America/Toronto:20250918T193000
DTSTAMP:20260420T020523
CREATED:20250907T140051Z
LAST-MODIFIED:20251021T030842Z
UID:3879-1758223800-1758223800@hamiltonmasons.ca
SUMMARY:Installation - Beach No. 475
DESCRIPTION:Beach No. 475
URL:https://hamiltonmasons.ca/event/installation-beach-no-475/
LOCATION:ON
CATEGORIES:Installation,Official Visit,Regular Meeting,South District
END:VEVENT
BEGIN:VEVENT
DTSTART;TZID=America/Toronto:20250917T191400
DTEND;TZID=America/Toronto:20250917T221400
DTSTAMP:20260420T020523
CREATED:20251010T020807Z
LAST-MODIFIED:20251016T014739Z
UID:4446-1758136440-1758147240@hamiltonmasons.ca
SUMMARY:Regular Meeting
DESCRIPTION:No Content
URL:https://hamiltonmasons.ca/event/regular-meeting-3/
LOCATION:ON
CATEGORIES:Battlefield Lodge No. 61,Regular Meeting
END:VEVENT
BEGIN:VEVENT
DTSTART;TZID=America/Toronto:20250916T180000
DTEND;TZID=America/Toronto:20250916T220000
DTSTAMP:20260420T020523
CREATED:20250801T103605Z
LAST-MODIFIED:20251016T134156Z
UID:2891-1758045600-1758060000@hamiltonmasons.ca
SUMMARY:Hugh Murray Lodge No. 602 Step Up Night
DESCRIPTION:Hugh Murray Lodge’s Officers will be stepping up to their next possible position to demonstrate their abilities in that role. \n\n\n\nJoin us for dinner prior to the meeting. Come and see them perform their ritual.
URL:https://hamiltonmasons.ca/event/hugh-murray-lodge-no-602-step-up-night/
LOCATION:Masonic Centre of Hamilton\, 4 Queen Street South\, Hamilton\, ON\, L8P 3R3\, Canada
CATEGORIES:2nd Degree,Hugh Murray Lodge No. 602,Regular Meeting,South District
ORGANIZER;CN="Hugh Murray Lodge No. 602":MAILTO:info@hughmurray602.ca
END:VEVENT
BEGIN:VEVENT
DTSTART;TZID=America/Toronto:20250916T000000
DTEND;TZID=America/Toronto:20250916T000000
DTSTAMP:20260420T020523
CREATED:20250907T140136Z
LAST-MODIFIED:20250921T223055Z
UID:3895-1757980800-1757980800@hamiltonmasons.ca
SUMMARY:Presentation of Regalia V.W. Bro. Scott R. Miller
DESCRIPTION:Wentworth Lodge
URL:https://hamiltonmasons.ca/event/presentation-of-regalia-v-w-bro-scott-r-miller/
LOCATION:ON
CATEGORIES:Presentation,Regular Meeting,South District
END:VEVENT
BEGIN:VEVENT
DTSTART;TZID=America/Toronto:20250910T193000
DTEND;TZID=America/Toronto:20250910T230000
DTSTAMP:20260420T020523
CREATED:20250910T002239Z
LAST-MODIFIED:20251016T014107Z
UID:3993-1757532600-1757545200@hamiltonmasons.ca
SUMMARY:The Barton Lodge Regular Meeting
DESCRIPTION:The Barton Lodge No. 6  Step Up Night
URL:https://hamiltonmasons.ca/event/the-barton-lodge-regular-meeting/
LOCATION:ON
CATEGORIES:Regular Meeting,The Barton Lodge No. 6
END:VEVENT
BEGIN:VEVENT
DTSTART;TZID=America/Toronto:20250908T073000
DTEND;TZID=America/Toronto:20250908T223000
DTSTAMP:20260420T020523
CREATED:20250904T185037Z
LAST-MODIFIED:20250905T171753Z
UID:3694-1757316600-1757370600@hamiltonmasons.ca
SUMMARY:Hillcrest meeting
DESCRIPTION:
URL:https://hamiltonmasons.ca/event/hillcrest-meeting-2/
LOCATION:ON
CATEGORIES:Education,Fraternal Visit,Regular Meeting,South District
END:VEVENT
BEGIN:VEVENT
DTSTART;TZID=America/Toronto:20250906T000000
DTEND;TZID=America/Toronto:20250906T000000
DTSTAMP:20260420T020523
CREATED:20250907T140136Z
LAST-MODIFIED:20250921T223206Z
UID:3894-1757116800-1757116800@hamiltonmasons.ca
SUMMARY:Celebration of Life for V.W. Bro Arthur Moore
DESCRIPTION:
URL:https://hamiltonmasons.ca/event/celebration-of-life-for-v-w-bro-arthur-moore/
LOCATION:ON
CATEGORIES:Memorial Service,Other,South District
END:VEVENT
BEGIN:VEVENT
DTSTART;TZID=America/Toronto:20250901T191400
DTEND;TZID=America/Toronto:20250901T191400
DTSTAMP:20260420T020523
CREATED:20251114T041813Z
LAST-MODIFIED:20251114T165956Z
UID:6526-1756754040-1756754040@hamiltonmasons.ca
SUMMARY:Regular Meeting
DESCRIPTION:No Content
URL:https://hamiltonmasons.ca/event/regular-meeting-35/
LOCATION:ON
CATEGORIES:Beach Lodge No. 475,beach_475,Regular Meeting,South District
END:VEVENT
BEGIN:VEVENT
DTSTART;TZID=America/Toronto:20250804T191400
DTEND;TZID=America/Toronto:20250804T191400
DTSTAMP:20260420T020523
CREATED:20251114T041813Z
LAST-MODIFIED:20251114T165956Z
UID:6525-1754334840-1754334840@hamiltonmasons.ca
SUMMARY:Regular Meeting
DESCRIPTION:No Content
URL:https://hamiltonmasons.ca/event/regular-meeting-34/
LOCATION:ON
CATEGORIES:Beach Lodge No. 475,beach_475,Installation,Official Visit,Regular Meeting,South District
END:VEVENT
BEGIN:VEVENT
DTSTART;TZID=America/Toronto:20250715T080000
DTEND;TZID=America/Toronto:20250717T170000
DTSTAMP:20260420T020523
CREATED:20250729T114903Z
LAST-MODIFIED:20250907T134210Z
UID:2881-1752566400-1752771600@hamiltonmasons.ca
SUMMARY:2025 Grand Communication
DESCRIPTION:This is the annual gathering to discuss the affairs of the Grand Lodge\, elect Officers\, and provide a venue for cementing the bonds of friendship
URL:https://hamiltonmasons.ca/event/2025-grand-communication/
LOCATION:Sheraton Parkway Toronto North Hotel & Suites\, 600 Hwy 7\, Richmond Hill\, Ontario\, L4B 1B2\, Canada
CATEGORIES:Grand Lodge,Grand Lodge Communication
END:VEVENT
BEGIN:VEVENT
DTSTART;TZID=America/Toronto:20250707T191400
DTEND;TZID=America/Toronto:20250707T191400
DTSTAMP:20260420T020523
CREATED:20251114T041812Z
LAST-MODIFIED:20251114T165956Z
UID:6524-1751915640-1751915640@hamiltonmasons.ca
SUMMARY:Regular Meeting
DESCRIPTION:No Content
URL:https://hamiltonmasons.ca/event/regular-meeting-33/
LOCATION:ON
CATEGORIES:Beach Lodge No. 475,beach_475,Regular Meeting,South District
END:VEVENT
BEGIN:VEVENT
DTSTART;TZID=America/New_York:20250625T190000
DTEND;TZID=America/New_York:20250625T210000
DTSTAMP:20260420T020523
CREATED:20251223T155604Z
LAST-MODIFIED:20251223T162029Z
UID:6991-1750878000-1750885200@hamiltonmasons.ca
SUMMARY:Emergent Meeting St. Clair Lodge No 135
DESCRIPTION:
URL:https://hamiltonmasons.ca/event/emergent-meeting-st-clair-lodge-no-135-6/
LOCATION:ON
CATEGORIES:Emergent Meeting,North District,St. Clair Lodge No. 135
END:VEVENT
BEGIN:VEVENT
DTSTART;TZID=America/New_York:20250528T190000
DTEND;TZID=America/New_York:20250528T210000
DTSTAMP:20260420T020523
CREATED:20251223T155405Z
LAST-MODIFIED:20251223T162014Z
UID:6990-1748458800-1748466000@hamiltonmasons.ca
SUMMARY:Emergent Meeting St. Clair Lodge No 135
DESCRIPTION:
URL:https://hamiltonmasons.ca/event/emergent-meeting-st-clair-lodge-no-135-5/
LOCATION:ON
CATEGORIES:Emergent Meeting,North District,St. Clair Lodge No. 135
END:VEVENT
BEGIN:VEVENT
DTSTART;TZID=America/New_York:20250423T190000
DTEND;TZID=America/New_York:20250423T210000
DTSTAMP:20260420T020523
CREATED:20251223T155405Z
LAST-MODIFIED:20251223T162014Z
UID:6989-1745434800-1745442000@hamiltonmasons.ca
SUMMARY:Emergent Meeting St. Clair Lodge No 135
DESCRIPTION:
URL:https://hamiltonmasons.ca/event/emergent-meeting-st-clair-lodge-no-135-4/
LOCATION:ON
CATEGORIES:Emergent Meeting,North District,St. Clair Lodge No. 135
END:VEVENT
BEGIN:VEVENT
DTSTART;TZID=America/Toronto:20250415T193000
DTEND;TZID=America/Toronto:20250415T220000
DTSTAMP:20260420T020523
CREATED:20250306T222340Z
LAST-MODIFIED:20251016T014202Z
UID:1094-1744745400-1744754400@hamiltonmasons.ca
SUMMARY:Regular Meeting
DESCRIPTION:Grand Lodge\, Grand Master Visit\, Other\n\n\n\n\nRegular Meeting followed by Pie Night
URL:https://hamiltonmasons.ca/event/regular-meeting/
LOCATION:ON
CATEGORIES:1st Degree,Fraternal Visit,Hugh Murray Lodge No. 602,Regular Meeting
END:VEVENT
BEGIN:VEVENT
DTSTART;TZID=America/New_York:20250326T190000
DTEND;TZID=America/New_York:20250326T210000
DTSTAMP:20260420T020523
CREATED:20251223T155404Z
LAST-MODIFIED:20251223T162014Z
UID:6988-1743015600-1743022800@hamiltonmasons.ca
SUMMARY:Emergent Meeting St. Clair Lodge No 135
DESCRIPTION:
URL:https://hamiltonmasons.ca/event/emergent-meeting-st-clair-lodge-no-135-3/
LOCATION:ON
CATEGORIES:Emergent Meeting,North District,St. Clair Lodge No. 135
END:VEVENT
BEGIN:VEVENT
DTSTART;TZID=America/Toronto:20250322T080000
DTEND;TZID=America/Toronto:20250322T170000
DTSTAMP:20260420T020523
CREATED:20250307T184059Z
LAST-MODIFIED:20250921T224047Z
UID:1229-1742630400-1742662800@hamiltonmasons.ca
SUMMARY:Past Masters Meeting 1
DESCRIPTION:Meet and Greet 8:30 a.m.\, Breakfast 9:00 a.m.\, Meeting : 9:45 a.m
URL:https://hamiltonmasons.ca/event/past-masters-meeting-1/
LOCATION:Masonic Centre of Hamilton\, 4 Queen Street South\, Hamilton\, ON\, L8P 3R3\, Canada
CATEGORIES:Past Masters' Association Meeting,South District
ATTACH;FMTTYPE=image/jpeg:https://hamiltonmasons.ca/wp-content/uploads/2025/03/SRC_Building-1.jpg
ORGANIZER;CN="VW. Bro. Tom Peddle":MAILTO:thomasfpeddle@gmail.com
END:VEVENT
BEGIN:VEVENT
DTSTART;TZID=America/New_York:20250226T190000
DTEND;TZID=America/New_York:20250226T210000
DTSTAMP:20260420T020523
CREATED:20251223T155404Z
LAST-MODIFIED:20251223T162014Z
UID:6987-1740596400-1740603600@hamiltonmasons.ca
SUMMARY:Emergent Meeting St. Clair Lodge No 135
DESCRIPTION:
URL:https://hamiltonmasons.ca/event/emergent-meeting-st-clair-lodge-no-135-2/
LOCATION:ON
CATEGORIES:Emergent Meeting,North District,St. Clair Lodge No. 135
END:VEVENT
BEGIN:VEVENT
DTSTART;TZID=America/New_York:20250122T190000
DTEND;TZID=America/New_York:20250122T210000
DTSTAMP:20260420T020523
CREATED:20251223T155404Z
LAST-MODIFIED:20251223T162014Z
UID:6986-1737572400-1737579600@hamiltonmasons.ca
SUMMARY:Emergent Meeting St. Clair Lodge No 135
DESCRIPTION:
URL:https://hamiltonmasons.ca/event/emergent-meeting-st-clair-lodge-no-135/
LOCATION:ON
CATEGORIES:Emergent Meeting,North District,St. Clair Lodge No. 135
END:VEVENT
BEGIN:VEVENT
DTSTART;TZID=America/Toronto:20260420T020523
DTEND;TZID=America/Toronto:20260420T020523
DTSTAMP:20260420T020523
CREATED:20250907T140407Z
LAST-MODIFIED:20250921T223328Z
UID:3912-0-0@hamiltonmasons.ca
SUMMARY:Grand Lodge Annual Communication
DESCRIPTION:
URL:https://hamiltonmasons.ca/event/grand-lodge-annual-communication/
LOCATION:ON
CATEGORIES:Grand Lodge Communication,South District
END:VEVENT
BEGIN:VEVENT
DTSTART;TZID=America/Toronto:20260420T020523
DTEND;TZID=America/Toronto:20260420T020523
DTSTAMP:20260420T020523
CREATED:20250907T140137Z
LAST-MODIFIED:20250921T223254Z
UID:3896-0-0@hamiltonmasons.ca
SUMMARY:International Plowing competition
DESCRIPTION:
URL:https://hamiltonmasons.ca/event/international-plowing-competition/
LOCATION:ON
CATEGORIES:Other,South District
END:VEVENT
END:VCALENDAR