BEGIN:VCALENDAR
VERSION:2.0
PRODID:-//Hamilton Masons - ECPv6.15.20//NONSGML v1.0//EN
CALSCALE:GREGORIAN
METHOD:PUBLISH
X-ORIGINAL-URL:https://hamiltonmasons.ca
X-WR-CALDESC:Events for Hamilton Masons
REFRESH-INTERVAL;VALUE=DURATION:PT1H
X-Robots-Tag:noindex
X-PUBLISHED-TTL:PT1H
BEGIN:VTIMEZONE
TZID:America/Toronto
BEGIN:DAYLIGHT
TZOFFSETFROM:-0500
TZOFFSETTO:-0400
TZNAME:EDT
DTSTART:20240310T070000
END:DAYLIGHT
BEGIN:STANDARD
TZOFFSETFROM:-0400
TZOFFSETTO:-0500
TZNAME:EST
DTSTART:20241103T060000
END:STANDARD
BEGIN:DAYLIGHT
TZOFFSETFROM:-0500
TZOFFSETTO:-0400
TZNAME:EDT
DTSTART:20250309T070000
END:DAYLIGHT
BEGIN:STANDARD
TZOFFSETFROM:-0400
TZOFFSETTO:-0500
TZNAME:EST
DTSTART:20251102T060000
END:STANDARD
BEGIN:DAYLIGHT
TZOFFSETFROM:-0500
TZOFFSETTO:-0400
TZNAME:EDT
DTSTART:20260308T070000
END:DAYLIGHT
BEGIN:STANDARD
TZOFFSETFROM:-0400
TZOFFSETTO:-0500
TZNAME:EST
DTSTART:20261101T060000
END:STANDARD
END:VTIMEZONE
BEGIN:VTIMEZONE
TZID:America/New_York
BEGIN:DAYLIGHT
TZOFFSETFROM:-0500
TZOFFSETTO:-0400
TZNAME:EDT
DTSTART:20240310T070000
END:DAYLIGHT
BEGIN:STANDARD
TZOFFSETFROM:-0400
TZOFFSETTO:-0500
TZNAME:EST
DTSTART:20241103T060000
END:STANDARD
BEGIN:DAYLIGHT
TZOFFSETFROM:-0500
TZOFFSETTO:-0400
TZNAME:EDT
DTSTART:20250309T070000
END:DAYLIGHT
BEGIN:STANDARD
TZOFFSETFROM:-0400
TZOFFSETTO:-0500
TZNAME:EST
DTSTART:20251102T060000
END:STANDARD
BEGIN:DAYLIGHT
TZOFFSETFROM:-0500
TZOFFSETTO:-0400
TZNAME:EDT
DTSTART:20260308T070000
END:DAYLIGHT
BEGIN:STANDARD
TZOFFSETFROM:-0400
TZOFFSETTO:-0500
TZNAME:EST
DTSTART:20261101T060000
END:STANDARD
END:VTIMEZONE
BEGIN:VEVENT
DTSTART;TZID=America/Toronto:20251103T191400
DTEND;TZID=America/Toronto:20251103T191400
DTSTAMP:20260420T015142
CREATED:20251114T041816Z
LAST-MODIFIED:20251114T170029Z
UID:6529-1762197240-1762197240@hamiltonmasons.ca
SUMMARY:Regular Meeting
DESCRIPTION:No Content
URL:https://hamiltonmasons.ca/event/regular-meeting-37/
CATEGORIES:Beach Lodge No. 475,beach_475,Regular Meeting,South District
END:VEVENT
BEGIN:VEVENT
DTSTART;TZID=America/Toronto:20251106T193000
DTEND;TZID=America/Toronto:20251106T220000
DTSTAMP:20260420T015142
CREATED:20251006T235348Z
LAST-MODIFIED:20251006T235352Z
UID:4291-1762457400-1762466400@hamiltonmasons.ca
SUMMARY:2nd Degree for Bob Smith
DESCRIPTION:
URL:https://hamiltonmasons.ca/event/2nd-degree-for-bob-smith/
LOCATION:Real Hillcrest\, Mohawk Road\, Hamilton\, ontario\, Canada
END:VEVENT
BEGIN:VEVENT
DTSTART;TZID=America/Toronto:20251106T193000
DTEND;TZID=America/Toronto:20251106T220000
DTSTAMP:20260420T015142
CREATED:20251016T194455Z
LAST-MODIFIED:20251016T194457Z
UID:4903-1762457400-1762466400@hamiltonmasons.ca
SUMMARY:St. Clair Lodge No. 135 Regular Meeting
DESCRIPTION:
URL:https://hamiltonmasons.ca/event/st-clair-lodge-no-135-regular-meeting/
LOCATION:Milton Masonic Temple\, 6321 Regional Road 25\, Milton\, ON\, L0P1E0\, Canada
CATEGORIES:Lodge,North District,Regular Meeting,St. Clair Lodge No. 135
END:VEVENT
BEGIN:VEVENT
DTSTART;TZID=America/Toronto:20251108T083000
DTEND;TZID=America/Toronto:20251108T120000
DTSTAMP:20260420T015142
CREATED:20251016T193502Z
LAST-MODIFIED:20251205T030909Z
UID:4899-1762590600-1762603200@hamiltonmasons.ca
SUMMARY:Role of the Worshipful Master Workshop
DESCRIPTION:Hosted By: Hamilton North District\, Hamilton South District\, and Toronto West District \n\n\n\n\n\n\n\n\n\n\n\n\n\n\n\n\n\n\n\nEvent Photos
URL:https://hamiltonmasons.ca/event/role-of-the-worshipful-master-workshop/
LOCATION:Milton Masonic Temple\, 6321 Regional Road 25\, Milton\, ON\, L0P1E0\, Canada
CATEGORIES:Education Pillar,Grand Lodge,North District,South District
END:VEVENT
BEGIN:VEVENT
DTSTART;TZID=America/Toronto:20251108T193000
DTEND;TZID=America/Toronto:20251108T220000
DTSTAMP:20260420T015142
CREATED:20251024T033347Z
LAST-MODIFIED:20251024T033350Z
UID:5351-1762630200-1762639200@hamiltonmasons.ca
SUMMARY:Installation - Campbell No. 603
DESCRIPTION:
URL:https://hamiltonmasons.ca/event/installation-campbell-no-603/
LOCATION:Campbellville Masonic Temple\, 30 Campbell Ave\, Milton\, ontario\, L0P1B0\, Canada
CATEGORIES:Campbell Lodge No. 603,Installation,North District
END:VEVENT
BEGIN:VEVENT
DTSTART;TZID=America/Toronto:20251109T000000
DTEND;TZID=America/Toronto:20251109T000000
DTSTAMP:20260420T015142
CREATED:20250907T140151Z
LAST-MODIFIED:20250921T213850Z
UID:3901-1762646400-1762646400@hamiltonmasons.ca
SUMMARY:Hamilton Remembrance Services
DESCRIPTION:Gore Park
URL:https://hamiltonmasons.ca/event/hamilton-remembrance-services/
CATEGORIES:Memorial Service,North District,South District
END:VEVENT
BEGIN:VEVENT
DTSTART;TZID=America/Toronto:20251110T193000
DTEND;TZID=America/Toronto:20251110T220000
DTSTAMP:20260420T015142
CREATED:20251006T155033Z
LAST-MODIFIED:20251016T013659Z
UID:4285-1762803000-1762812000@hamiltonmasons.ca
SUMMARY:Hillcrest Lodge Regular Meeting
DESCRIPTION:November Regular meeting\, Remembrance Day service
URL:https://hamiltonmasons.ca/event/hillcrest-lodge-regular-meeting/
CATEGORIES:Hillcrest Lodge No. 594,Regular Meeting,South District
END:VEVENT
BEGIN:VEVENT
DTSTART;TZID=America/Toronto:20251111T094500
DTEND;TZID=America/Toronto:20251111T113000
DTSTAMP:20260420T015142
CREATED:20250907T140152Z
LAST-MODIFIED:20251030T024325Z
UID:3902-1762854300-1762860600@hamiltonmasons.ca
SUMMARY:Remembrance Day Service
DESCRIPTION:The Museum offers limited seating with additional standing room\, so it is best to arrive early.  \n\n\n\nBrethren\, please RSVP with the link below so that the appropriate number of seats can be reserved. Please arrive at the latest by 9:45. Any seats not occupied will be opened up to the public at 10:15. \n\n\n\nWeather permitting\, the B-25 Mitchell and Firefly will perform a fly by for the service at 11:02 am. \n\n\n\nThe service can be watched on CHCH-TV\, streaming at chch.com/live or YouTube. \n\n\n\nDonations of non-perishable food are also being accepted for the Hamilton Food Share.
URL:https://hamiltonmasons.ca/event/remembrance-day-service/
LOCATION:Canadian Warplane Heritage Museum\, 9280 Airport Rd\, \, ON\, Mount Hope\, ON\, L0R 1W0\, Canada
CATEGORIES:Memorial Service,North District,South District
ATTACH;FMTTYPE=image/png:https://hamiltonmasons.ca/wp-content/uploads/2025/09/Remembrance_Day_2025_3840x2160_t.png
END:VEVENT
BEGIN:VEVENT
DTSTART;TZID=America/Toronto:20251112T193000
DTEND;TZID=America/Toronto:20251112T213000
DTSTAMP:20260420T015142
CREATED:20251012T190406Z
LAST-MODIFIED:20251012T190600Z
UID:4508-1762975800-1762983000@hamiltonmasons.ca
SUMMARY:The Harmony Lodge No. 57 Regular Meeting
DESCRIPTION:Remembrance Service
URL:https://hamiltonmasons.ca/event/the-harmony-lodge-no-57-regular-meeting/
LOCATION:Harmony Masonic Temple\, 9550 York St\, Canfield\, Ontario\, N0A 1C0\, Canada
CATEGORIES:Memorial Service,Regular Meeting
END:VEVENT
BEGIN:VEVENT
DTSTART;TZID=America/Toronto:20251112T193000
DTEND;TZID=America/Toronto:20251112T230000
DTSTAMP:20260420T015142
CREATED:20250910T003041Z
LAST-MODIFIED:20251016T014249Z
UID:3999-1762975800-1762988400@hamiltonmasons.ca
SUMMARY:The Barton Lodge No. 6
DESCRIPTION:The Barton Lodge Regular Meeting – Elections and Memorial Service
URL:https://hamiltonmasons.ca/event/the-barton-lodge-no-6-2/
CATEGORIES:Election,Memorial Service,Regular Meeting,The Barton Lodge No. 6
END:VEVENT
BEGIN:VEVENT
DTSTART;TZID=America/Toronto:20251113T193000
DTEND;TZID=America/Toronto:20251113T220000
DTSTAMP:20260420T015142
CREATED:20251024T033511Z
LAST-MODIFIED:20251024T033513Z
UID:5354-1763062200-1763071200@hamiltonmasons.ca
SUMMARY:Installation - Wellington Square No. 725
DESCRIPTION:
URL:https://hamiltonmasons.ca/event/installation-wellington-square-no-725/
LOCATION:Burlington Masonic Temple\, 459 Brant Street\, Burlington\, Ontario\, L7R2G3\, Canada
CATEGORIES:Installation,North District,Wellington Square Lodge No. 725
END:VEVENT
BEGIN:VEVENT
DTSTART;TZID=America/Toronto:20251115T100000
DTEND;TZID=America/Toronto:20251115T140000
DTSTAMP:20260420T015142
CREATED:20251025T165523Z
LAST-MODIFIED:20251025T165925Z
UID:5392-1763200800-1763215200@hamiltonmasons.ca
SUMMARY:Eastern Star Vendor Sale!
DESCRIPTION:
URL:https://hamiltonmasons.ca/event/eastern-star-vendor-sale/
LOCATION:Milton Masonic Temple\, 6321 Regional Road 25\, Milton\, ON\, L0P1E0\, Canada
CATEGORIES:North District,Other,Social,South District,St. Clair Lodge No. 135
END:VEVENT
BEGIN:VEVENT
DTSTART;TZID=America/Toronto:20251118T193000
DTEND;TZID=America/Toronto:20251118T220000
DTSTAMP:20260420T015142
CREATED:20250907T140016Z
LAST-MODIFIED:20251016T025852Z
UID:3866-1763494200-1763503200@hamiltonmasons.ca
SUMMARY:Official Visit - Wentworth No. 166
DESCRIPTION:Wentworth No. 166
URL:https://hamiltonmasons.ca/event/official-visit-wentworth-no-166/
CATEGORIES:Official Visit,Regular Meeting,South District,Wentworth Lodge No. 166,Westmount Lodge No. 671
END:VEVENT
BEGIN:VEVENT
DTSTART;TZID=America/Toronto:20251118T193000
DTEND;TZID=America/Toronto:20251118T220000
DTSTAMP:20260420T015142
CREATED:20250921T232053Z
LAST-MODIFIED:20251016T025721Z
UID:4076-1763494200-1763503200@hamiltonmasons.ca
SUMMARY:Hugh Murray Lodge No. 602 Remembrance Ceremony and Elections
DESCRIPTION:This will be our Remembrance Ceremony and Election of Officers for the 2026 year.
URL:https://hamiltonmasons.ca/event/hugh-murray-lodge-no-602-2025-11/
LOCATION:Masonic Centre of Hamilton\, 4 Queen Street South\, Hamilton\, ON\, L8P 3R3\, Canada
CATEGORIES:Election,Hugh Murray Lodge No. 602,Memorial Service,Regular Meeting,South District
END:VEVENT
BEGIN:VEVENT
DTSTART;TZID=America/Toronto:20251118T193000
DTEND;TZID=America/Toronto:20251118T220000
DTSTAMP:20260420T015142
CREATED:20251117T155609Z
LAST-MODIFIED:20251117T155616Z
UID:6684-1763494200-1763503200@hamiltonmasons.ca
SUMMARY:Wentworth 166 Official Visit
DESCRIPTION:Lodge Tyled at 7:30pm. Banquet Room After Lodge
URL:https://hamiltonmasons.ca/event/wentworth-166-official-visit/
END:VEVENT
BEGIN:VEVENT
DTSTART;TZID=America/Toronto:20251119T130000
DTEND;TZID=America/Toronto:20251119T170000
DTSTAMP:20260420T015142
CREATED:20251031T170638Z
LAST-MODIFIED:20251031T171526Z
UID:6204-1763557200-1763571600@hamiltonmasons.ca
SUMMARY:Canadian Blood Services - Training
DESCRIPTION:Learn how to work the recovery station
URL:https://hamiltonmasons.ca/event/canadian-blood-services-training/
LOCATION:Canadian Blood Services\, 35 Stone Church Rd\, Ancaster\, ON\, L9K 1S4\, Canada
CATEGORIES:Blood Donations
ORGANIZER;CN="Hugh Murray Lodge No. 602":MAILTO:info@hughmurray602.ca
END:VEVENT
BEGIN:VEVENT
DTSTART;TZID=America/Toronto:20251119T191400
DTEND;TZID=America/Toronto:20251119T221400
DTSTAMP:20260420T015142
CREATED:20251010T020808Z
LAST-MODIFIED:20251016T025559Z
UID:4449-1763579640-1763590440@hamiltonmasons.ca
SUMMARY:Regular Meeting
DESCRIPTION:No Content
URL:https://hamiltonmasons.ca/event/regular-meeting-6/
CATEGORIES:Battlefield Lodge No. 61,Regular Meeting,South District
END:VEVENT
BEGIN:VEVENT
DTSTART;TZID=America/Toronto:20251119T193000
DTEND;TZID=America/Toronto:20251119T220000
DTSTAMP:20260420T015142
CREATED:20250907T140051Z
LAST-MODIFIED:20251016T025459Z
UID:3880-1763580600-1763589600@hamiltonmasons.ca
SUMMARY:Installation - Battlefield No. 61
DESCRIPTION:Battlefield No. 61
URL:https://hamiltonmasons.ca/event/installation-battlefield-no-61/
CATEGORIES:Battlefield Lodge No. 61,Fraternal Visit,Installation,Regular Meeting,South District
END:VEVENT
BEGIN:VEVENT
DTSTART;TZID=America/Toronto:20251124T193000
DTEND;TZID=America/Toronto:20251124T220000
DTSTAMP:20260420T015142
CREATED:20251119T013421Z
LAST-MODIFIED:20251119T021737Z
UID:6717-1764012600-1764021600@hamiltonmasons.ca
SUMMARY:Emergent Meeting - 2 x 3rd Degree
DESCRIPTION:Hillcrest Lodge # 594 is holding an Emergent Meeting to pass 2 brothers to the Sublime Degree of a Master Mason
URL:https://hamiltonmasons.ca/event/emergent-meeting-2-x-3rd-degree/
LOCATION:Hillcrest Masonic Temple\, 257 Mohawk Rd W.\, Hamilton\, on\, L9C 1W2\, Canada
CATEGORIES:3rd Degree,Hillcrest Lodge No. 594
END:VEVENT
BEGIN:VEVENT
DTSTART;TZID=America/Toronto:20251125T193000
DTEND;TZID=America/Toronto:20251125T220000
DTSTAMP:20260420T015142
CREATED:20250907T140052Z
LAST-MODIFIED:20251016T025411Z
UID:3881-1764099000-1764108000@hamiltonmasons.ca
SUMMARY:Installation - Westmount No. 671
DESCRIPTION:Westmount No. 671
URL:https://hamiltonmasons.ca/event/installation-westmount-no-671/
CATEGORIES:Fraternal Visit,Installation,Regular Meeting,South District,Westmount Lodge No. 671
END:VEVENT
BEGIN:VEVENT
DTSTART;TZID=America/New_York:20251126T190000
DTEND;TZID=America/New_York:20251126T210000
DTSTAMP:20260420T015142
CREATED:20251223T155605Z
LAST-MODIFIED:20251223T162029Z
UID:6994-1764183600-1764190800@hamiltonmasons.ca
SUMMARY:Emergent Meeting St. Clair Lodge No 135
DESCRIPTION:
URL:https://hamiltonmasons.ca/event/emergent-meeting-st-clair-lodge-no-135-9/
CATEGORIES:Emergent Meeting,North District,St. Clair Lodge No. 135
END:VEVENT
BEGIN:VEVENT
DTSTART;TZID=America/Toronto:20251126T193000
DTEND;TZID=America/Toronto:20251126T220000
DTSTAMP:20260420T015142
CREATED:20250907T140052Z
LAST-MODIFIED:20251016T025319Z
UID:3882-1764185400-1764194400@hamiltonmasons.ca
SUMMARY:Installation - St. Andrews No. 593
DESCRIPTION:St. Andrews No. 593
URL:https://hamiltonmasons.ca/event/installation-st-andrews-no-593/
CATEGORIES:Fraternal Visit,Installation,Regular Meeting,South District,St. Andrews Lodge No. 593
END:VEVENT
BEGIN:VEVENT
DTSTART;TZID=America/Toronto:20251201T191400
DTEND;TZID=America/Toronto:20251201T191400
DTSTAMP:20260420T015142
CREATED:20251114T041816Z
LAST-MODIFIED:20251201T123520Z
UID:6530-1764616440-1764616440@hamiltonmasons.ca
SUMMARY:Beach Lodge Regular Meeting
DESCRIPTION:No Content
URL:https://hamiltonmasons.ca/event/beach-lodge-regular-meeting/
CATEGORIES:Beach Lodge No. 475,beach_475,Regular Meeting,South District
END:VEVENT
BEGIN:VEVENT
DTSTART;TZID=America/Toronto:20251204T193000
DTEND;TZID=America/Toronto:20251204T220000
DTSTAMP:20260420T015142
CREATED:20250907T140016Z
LAST-MODIFIED:20251016T025219Z
UID:3867-1764876600-1764885600@hamiltonmasons.ca
SUMMARY:Official Visit - Buchanan No. 550
DESCRIPTION:Buchanan No. 550
URL:https://hamiltonmasons.ca/event/official-visit-buchanan-no-550/
CATEGORIES:Buchanan Lodge No. 550,Official Visit,Regular Meeting,South District,The Barton Lodge No. 6
END:VEVENT
BEGIN:VEVENT
DTSTART;TZID=America/Toronto:20251206T080000
DTEND;TZID=America/Toronto:20251206T170000
DTSTAMP:20260420T015142
CREATED:20251016T194930Z
LAST-MODIFIED:20251016T194932Z
UID:4905-1765008000-1765040400@hamiltonmasons.ca
SUMMARY:Amalgamation: St. Clair No. 135 and Claude M. Kent No. 681
DESCRIPTION:
URL:https://hamiltonmasons.ca/event/amalgamation-st-clair-no-135-and-claude-m-kent-no-681/
LOCATION:Milton Masonic Temple\, 6321 Regional Road 25\, Milton\, ON\, L0P1E0\, Canada
CATEGORIES:Claude M. Kent Lodge No. 681,Election,Grand Lodge,Installation,North District,Other,St. Clair Lodge No. 135
END:VEVENT
BEGIN:VEVENT
DTSTART;TZID=America/Toronto:20251206T173000
DTEND;TZID=America/Toronto:20251206T210000
DTSTAMP:20260420T015142
CREATED:20251119T031612Z
LAST-MODIFIED:20251119T031800Z
UID:6727-1765042200-1765054800@hamiltonmasons.ca
SUMMARY:Hillcrest Lodge Christmas Party
DESCRIPTION:Join us for an evening of holiday cheer on Saturday\, December 6\, 2025\, at the Hillcrest Lodge Hall. \n\n\n\n What to Expect: \n\n\n\n\nA traditional turkey dinner with all your favorite sides\n\n\n\nIf you have any dietary restrictions\, please let us know in advance so we can accommodate your needs.\n\n\n\nSanta Claus making a special appearance\n\n\n\nA joyful carol sing-along to get everyone in the festive spirit\n\n\n\n\n Time: \n\n\n\n\n5:30 pm doors open\n\n\n\n6:00 pm Festive dinner
URL:https://hamiltonmasons.ca/event/hillcrest-lodge-christmas-party/
LOCATION:Hillcrest Lodge
CATEGORIES:Hillcrest Lodge No. 594,Social,Social Event
END:VEVENT
BEGIN:VEVENT
DTSTART;TZID=America/Toronto:20251206T193000
DTEND;TZID=America/Toronto:20251206T220000
DTSTAMP:20260420T015142
CREATED:20251024T033850Z
LAST-MODIFIED:20251024T033851Z
UID:5356-1765049400-1765058400@hamiltonmasons.ca
SUMMARY:Installation - St Clair No. 135 + Claude M. Kent No. 681
DESCRIPTION:
URL:https://hamiltonmasons.ca/event/installation-st-clair-no-135-claude-m-kent-no-681/
LOCATION:Milton Masonic Temple\, 6321 Regional Road 25\, Milton\, ON\, L0P1E0\, Canada
CATEGORIES:Amalgamation,Claude M. Kent Lodge No. 681,Election,Installation,North District,St. Clair Lodge No. 135
END:VEVENT
BEGIN:VEVENT
DTSTART;TZID=America/Toronto:20251208T193000
DTEND;TZID=America/Toronto:20251208T213000
DTSTAMP:20260420T015142
CREATED:20251119T032751Z
LAST-MODIFIED:20251119T032753Z
UID:6735-1765222200-1765229400@hamiltonmasons.ca
SUMMARY:Hillcrest Lodge #594 - Election Night
DESCRIPTION:The annual election of Officers for the upcoming 2026-7 Masonic Year.
URL:https://hamiltonmasons.ca/event/hillcrest-lodge-594-election-night/
END:VEVENT
BEGIN:VEVENT
DTSTART;TZID=America/Toronto:20251210T180000
DTEND;TZID=America/Toronto:20251210T220000
DTSTAMP:20260420T015142
CREATED:20250907T140052Z
LAST-MODIFIED:20251016T024224Z
UID:3883-1765389600-1765404000@hamiltonmasons.ca
SUMMARY:Installation - The Barton No. 6
DESCRIPTION:The Barton No. 6
URL:https://hamiltonmasons.ca/event/installation-the-barton-no-6/
CATEGORIES:Fraternal Visit,Installation,Regular Meeting,South District,The Barton Lodge No. 6
END:VEVENT
BEGIN:VEVENT
DTSTART;TZID=America/Toronto:20251210T180000
DTEND;TZID=America/Toronto:20251210T230000
DTSTAMP:20260420T015142
CREATED:20250910T003837Z
LAST-MODIFIED:20251016T024441Z
UID:4003-1765389600-1765407600@hamiltonmasons.ca
SUMMARY:The Barton Lodge No. 6
DESCRIPTION:Installation and Investiture of Officers
URL:https://hamiltonmasons.ca/event/the-barton-lodge-no-6/
CATEGORIES:Fraternal Visit,Installation,Regular Meeting,South District,The Barton Lodge No. 6
END:VEVENT
END:VCALENDAR