BEGIN:VCALENDAR
VERSION:2.0
PRODID:-//Hamilton Masons - ECPv6.15.20//NONSGML v1.0//EN
CALSCALE:GREGORIAN
METHOD:PUBLISH
X-WR-CALNAME:Hamilton Masons
X-ORIGINAL-URL:https://hamiltonmasons.ca
X-WR-CALDESC:Events for Hamilton Masons
REFRESH-INTERVAL;VALUE=DURATION:PT1H
X-Robots-Tag:noindex
X-PUBLISHED-TTL:PT1H
BEGIN:VTIMEZONE
TZID:America/Toronto
BEGIN:DAYLIGHT
TZOFFSETFROM:-0500
TZOFFSETTO:-0400
TZNAME:EDT
DTSTART:20250309T070000
END:DAYLIGHT
BEGIN:STANDARD
TZOFFSETFROM:-0400
TZOFFSETTO:-0500
TZNAME:EST
DTSTART:20251102T060000
END:STANDARD
BEGIN:DAYLIGHT
TZOFFSETFROM:-0500
TZOFFSETTO:-0400
TZNAME:EDT
DTSTART:20260308T070000
END:DAYLIGHT
BEGIN:STANDARD
TZOFFSETFROM:-0400
TZOFFSETTO:-0500
TZNAME:EST
DTSTART:20261101T060000
END:STANDARD
BEGIN:DAYLIGHT
TZOFFSETFROM:-0500
TZOFFSETTO:-0400
TZNAME:EDT
DTSTART:20270314T070000
END:DAYLIGHT
BEGIN:STANDARD
TZOFFSETFROM:-0400
TZOFFSETTO:-0500
TZNAME:EST
DTSTART:20271107T060000
END:STANDARD
END:VTIMEZONE
BEGIN:VTIMEZONE
TZID:America/New_York
BEGIN:DAYLIGHT
TZOFFSETFROM:-0500
TZOFFSETTO:-0400
TZNAME:EDT
DTSTART:20250309T070000
END:DAYLIGHT
BEGIN:STANDARD
TZOFFSETFROM:-0400
TZOFFSETTO:-0500
TZNAME:EST
DTSTART:20251102T060000
END:STANDARD
BEGIN:DAYLIGHT
TZOFFSETFROM:-0500
TZOFFSETTO:-0400
TZNAME:EDT
DTSTART:20260308T070000
END:DAYLIGHT
BEGIN:STANDARD
TZOFFSETFROM:-0400
TZOFFSETTO:-0500
TZNAME:EST
DTSTART:20261101T060000
END:STANDARD
BEGIN:DAYLIGHT
TZOFFSETFROM:-0500
TZOFFSETTO:-0400
TZNAME:EDT
DTSTART:20270314T070000
END:DAYLIGHT
BEGIN:STANDARD
TZOFFSETFROM:-0400
TZOFFSETTO:-0500
TZNAME:EST
DTSTART:20271107T060000
END:STANDARD
END:VTIMEZONE
BEGIN:VEVENT
DTSTART;TZID=America/Toronto:20260413T193000
DTEND;TZID=America/Toronto:20260413T220000
DTSTAMP:20260419T223334
CREATED:20260330T160153Z
LAST-MODIFIED:20260330T160530Z
UID:8078-1776108600-1776117600@hamiltonmasons.ca
SUMMARY:Official DDGM Visit - Hillcrest Lodge #594
DESCRIPTION:Official Visit of R. W. Bro. Corey A. McCarthy to Hillcrest Lodge # 594
URL:https://hamiltonmasons.ca/event/hillcrest-lodge-594-ddgm-official-visit/
END:VEVENT
BEGIN:VEVENT
DTSTART;TZID=America/Toronto:20260410T180000
DTEND;TZID=America/Toronto:20260410T220000
DTSTAMP:20260419T223334
CREATED:20260319T020544Z
LAST-MODIFIED:20260319T020909Z
UID:8071-1775844000-1775858400@hamiltonmasons.ca
SUMMARY:Comedy Night Hosted by Flamborough No. 357\, St. John's No. 40 & Campbell No.603 Lodges
DESCRIPTION:Doors Open at 6:00 \n\n\n\nDinner Served at 6:30 \n\n\n\nComedy Show at 8:00 \n\n\n\nClick Here for Event Details
URL:https://hamiltonmasons.ca/event/comedy-night-hosted-by-flamborough-no-357-st-johns-no-40-campbell-no-603-lodges/
LOCATION:Club 54\, 3345 Harvester Rd\, Burlington\, ON\, L7N 3N2\, Canada
CATEGORIES:Campbell Lodge No. 603,Flamborough Lodge No. 357,North District,Social,St. John's Lodge No. 40
END:VEVENT
BEGIN:VEVENT
DTSTART;TZID=America/Toronto:20260409T193000
DTEND;TZID=America/Toronto:20260409T220000
DTSTAMP:20260419T223334
CREATED:20250907T140016Z
LAST-MODIFIED:20260402T001201Z
UID:3868-1775763000-1775772000@hamiltonmasons.ca
SUMMARY:Official Visit - Union No. 7
DESCRIPTION:Union No. 7
URL:https://hamiltonmasons.ca/event/official-visit-union-no-7/
CATEGORIES:Landmarks Temple Lodge No.324,Official Visit,Regular Meeting,South District,Union Lodge No. 7
END:VEVENT
BEGIN:VEVENT
DTSTART;TZID=America/Toronto:20260408T180000
DTEND;TZID=America/Toronto:20260408T220000
DTSTAMP:20260419T223334
CREATED:20250907T140107Z
LAST-MODIFIED:20251016T021709Z
UID:3887-1775671200-1775685600@hamiltonmasons.ca
SUMMARY:Installation - Harmony No. 57
DESCRIPTION:Harmony No. 57
URL:https://hamiltonmasons.ca/event/installation-harmony-no-57/
CATEGORIES:Harmony Lodge No. 57,Installation,Regular Meeting,South District
END:VEVENT
BEGIN:VEVENT
DTSTART;TZID=America/Toronto:20260407T193000
DTEND;TZID=America/Toronto:20260407T220000
DTSTAMP:20260419T223334
CREATED:20251021T032603Z
LAST-MODIFIED:20251021T032626Z
UID:4990-1775590200-1775599200@hamiltonmasons.ca
SUMMARY:Official Visit - Campbell No. 603
DESCRIPTION:
URL:https://hamiltonmasons.ca/event/official-visit-campbell-no-603/
LOCATION:Campbellville Masonic Temple\, 30 Campbell Ave\, Milton\, ontario\, L0P1B0\, Canada
CATEGORIES:Campbell Lodge No. 603,North District,Official Visit,St. Clair Lodge No. 135
END:VEVENT
BEGIN:VEVENT
DTSTART;TZID=America/Toronto:20260406T191400
DTEND;TZID=America/Toronto:20260406T191400
DTSTAMP:20260419T223334
CREATED:20251114T041831Z
LAST-MODIFIED:20251114T170109Z
UID:6534-1775502840-1775502840@hamiltonmasons.ca
SUMMARY:Regular Meeting
DESCRIPTION:No Content
URL:https://hamiltonmasons.ca/event/regular-meeting-42/
CATEGORIES:Beach Lodge No. 475,beach_475,Regular Meeting,South District
END:VEVENT
BEGIN:VEVENT
DTSTART;TZID=America/Toronto:20260401T193000
DTEND;TZID=America/Toronto:20260401T220000
DTSTAMP:20260419T223334
CREATED:20251021T032159Z
LAST-MODIFIED:20251021T032233Z
UID:4987-1775071800-1775080800@hamiltonmasons.ca
SUMMARY:Official Visit - St Clair No. 135
DESCRIPTION:
URL:https://hamiltonmasons.ca/event/official-visit-st-clair-no-135/
LOCATION:Milton Masonic Temple\, 6321 Regional Road 25\, Milton\, ON\, L0P1E0\, Canada
CATEGORIES:Burlington Reunion Lodge No. 165,North District,Official Visit,St. Clair Lodge No. 135
END:VEVENT
BEGIN:VEVENT
DTSTART;TZID=America/Toronto:20260325T193000
DTEND;TZID=America/Toronto:20260325T193000
DTSTAMP:20260419T223334
CREATED:20250907T140036Z
LAST-MODIFIED:20251016T021842Z
UID:3875-1774467000-1774467000@hamiltonmasons.ca
SUMMARY:Official Visit - St. Andrews No. 593
DESCRIPTION:St. Andrews No. 593
URL:https://hamiltonmasons.ca/event/official-visit-st-andrews-no-593/
CATEGORIES:Buchanan Lodge No. 550,Official Visit,Regular Meeting,South District,St. Andrews Lodge No. 593
END:VEVENT
BEGIN:VEVENT
DTSTART;TZID=America/New_York:20260325T190000
DTEND;TZID=America/New_York:20260325T210000
DTSTAMP:20260419T223334
CREATED:20251223T155805Z
LAST-MODIFIED:20251223T162044Z
UID:6998-1774465200-1774472400@hamiltonmasons.ca
SUMMARY:Emergent Meeting St. Clair Lodge No 135
DESCRIPTION:
URL:https://hamiltonmasons.ca/event/emergent-meeting-st-clair-lodge-no-135-13/
CATEGORIES:Emergent Meeting,North District,St. Clair Lodge No. 135
END:VEVENT
BEGIN:VEVENT
DTSTART;TZID=America/Toronto:20260324T193000
DTEND;TZID=America/Toronto:20260324T193000
DTSTAMP:20260419T223334
CREATED:20250907T140036Z
LAST-MODIFIED:20251016T021940Z
UID:3874-1774380600-1774380600@hamiltonmasons.ca
SUMMARY:Official Visit - Westmount No. 671
DESCRIPTION:Westmount No. 671
URL:https://hamiltonmasons.ca/event/official-visit-westmount-no-671/
CATEGORIES:Harmony Lodge No. 57,Official Visit,Regular Meeting,South District,Westmount Lodge No. 671
END:VEVENT
BEGIN:VEVENT
DTSTART;TZID=America/Toronto:20260320T190000
DTEND;TZID=America/Toronto:20260320T230000
DTSTAMP:20260419T223334
CREATED:20260309T190527Z
LAST-MODIFIED:20260309T190729Z
UID:8065-1774033200-1774047600@hamiltonmasons.ca
SUMMARY:CAMPBELL MASONIC LODGE Presents THE ITALIAN FOOD NIGHT
DESCRIPTION:
URL:https://hamiltonmasons.ca/event/campbell-masonic-lodge-presents-the-italian-food-night/
LOCATION:Campbellville Masonic Temple\, 30 Campbell Ave\, Milton\, ontario\, L0P1B0\, Canada
CATEGORIES:Campbell Lodge No. 603,Lodge,North District,Social Event
END:VEVENT
BEGIN:VEVENT
DTSTART;TZID=America/Toronto:20260318T191400
DTEND;TZID=America/Toronto:20260318T221400
DTSTAMP:20260419T223334
CREATED:20251010T020811Z
LAST-MODIFIED:20251016T022021Z
UID:4453-1773861240-1773872040@hamiltonmasons.ca
SUMMARY:Regular Meeting
DESCRIPTION:No Content
URL:https://hamiltonmasons.ca/event/regular-meeting-10/
CATEGORIES:Battlefield Lodge No. 61,Regular Meeting,South District
END:VEVENT
BEGIN:VEVENT
DTSTART;TZID=America/Toronto:20260314T090000
DTEND;TZID=America/Toronto:20260314T120000
DTSTAMP:20260419T223334
CREATED:20250907T140351Z
LAST-MODIFIED:20251016T022149Z
UID:3906-1773478800-1773489600@hamiltonmasons.ca
SUMMARY:Hamilton Districts Past Masters Association
DESCRIPTION:Shrine Club Hamilton
URL:https://hamiltonmasons.ca/event/hamilton-districts-past-masters-association-3/
CATEGORIES:North District,Past Masters' Association Meeting,South District
END:VEVENT
BEGIN:VEVENT
DTSTART;TZID=America/Toronto:20260312T193000
DTEND;TZID=America/Toronto:20260312T220000
DTSTAMP:20260419T223334
CREATED:20251021T032031Z
LAST-MODIFIED:20251021T032033Z
UID:4983-1773343800-1773352800@hamiltonmasons.ca
SUMMARY:Official Visit - Wellington Square No. 725
DESCRIPTION:
URL:https://hamiltonmasons.ca/event/official-visit-wellington-square-no-725/
LOCATION:Burlington Masonic Temple\, 459 Brant Street\, Burlington\, Ontario\, L7R2G3\, Canada
CATEGORIES:North District,Official Visit,Trafalgar Lodge No. 712,Wellington Square Lodge No. 725
END:VEVENT
BEGIN:VEVENT
DTSTART;TZID=America/Toronto:20260311T193000
DTEND;TZID=America/Toronto:20260311T193000
DTSTAMP:20260419T223334
CREATED:20250907T140022Z
LAST-MODIFIED:20251016T022253Z
UID:3873-1773257400-1773257400@hamiltonmasons.ca
SUMMARY:Official Visit - Meridian No. 513
DESCRIPTION:Meridian No. 513
URL:https://hamiltonmasons.ca/event/official-visit-meridian-no-513/
CATEGORIES:Hillcrest Lodge No. 594,Meridian Lodge No. 513,Official Visit,Regular Meeting,South District
END:VEVENT
BEGIN:VEVENT
DTSTART;TZID=America/New_York:20260304T193000
DTEND;TZID=America/New_York:20260304T220000
DTSTAMP:20260419T223334
CREATED:20251223T155221Z
LAST-MODIFIED:20251223T161927Z
UID:6968-1772652600-1772661600@hamiltonmasons.ca
SUMMARY:Regular Meeting St. Clair Lodge No 135
DESCRIPTION:
URL:https://hamiltonmasons.ca/event/regular-meeting-st-clair-lodge-no-135-3/
CATEGORIES:North District,Regular Meeting,St. Clair Lodge No. 135
END:VEVENT
BEGIN:VEVENT
DTSTART;TZID=America/Toronto:20260302T193000
DTEND;TZID=America/Toronto:20260302T220000
DTSTAMP:20260419T223334
CREATED:20250907T140021Z
LAST-MODIFIED:20251016T022442Z
UID:3872-1772479800-1772488800@hamiltonmasons.ca
SUMMARY:Official Visit - Beach No. 475
DESCRIPTION:Beach No. 475
URL:https://hamiltonmasons.ca/event/official-visit-beach-no-475/
CATEGORIES:Beach Lodge No. 475,Official Visit,Regular Meeting,South District,St. Andrews Lodge No. 593
END:VEVENT
BEGIN:VEVENT
DTSTART;TZID=America/Toronto:20260302T191400
DTEND;TZID=America/Toronto:20260302T191400
DTSTAMP:20260419T223334
CREATED:20251114T041817Z
LAST-MODIFIED:20251114T170030Z
UID:6533-1772478840-1772478840@hamiltonmasons.ca
SUMMARY:Regular Meeting
DESCRIPTION:No Content
URL:https://hamiltonmasons.ca/event/regular-meeting-41/
CATEGORIES:Beach Lodge No. 475,beach_475,Regular Meeting,South District
END:VEVENT
BEGIN:VEVENT
DTSTART;TZID=America/Toronto:20260227T180000
DTEND;TZID=America/Toronto:20260227T230000
DTSTAMP:20260419T223334
CREATED:20260117T014558Z
LAST-MODIFIED:20260117T015631Z
UID:7899-1772215200-1772233200@hamiltonmasons.ca
SUMMARY:2026 Table Lodge - Westmount Lodge No. 671
DESCRIPTION:Portion of the proceeds in support of Dystonia Research Foundation \n\n\n\nA special ceremony with ritual incorporating terminology from centuries ago.Celebrate with toasts and a great evening of fellowship and revelry! \n\n\n\nIn Loving Memory of:R.W. Bro. D. Wayne Robinson &R.W. Bro. Dave Midgley \n\n\n\n$60.00 Per Ticket \n\n\n\nCall W.M. Karlous 289-682-7982\, J.W. Alex 905-541-3360S.D. Mike 905-515-7211 \n\n\n\nIncludes 3 Course DinnerPersonal Souvenir “Firing Cannon” used in Toasting Ritual. \n\n\n\nTable Lodge Westmount 671 2026 Flyer
URL:https://hamiltonmasons.ca/event/2026-table-lodge-westmount-lodge-no-671/
LOCATION:Hillcrest Masonic Temple\, 257 Mohawk Rd W.\, Hamilton\, on\, L9C 1W2\, Canada
CATEGORIES:Social Event,South District,Westmount Lodge No. 671
END:VEVENT
BEGIN:VEVENT
DTSTART;TZID=America/New_York:20260225T190000
DTEND;TZID=America/New_York:20260225T210000
DTSTAMP:20260419T223334
CREATED:20251223T155804Z
LAST-MODIFIED:20251223T162044Z
UID:6997-1772046000-1772053200@hamiltonmasons.ca
SUMMARY:Emergent Meeting St. Clair Lodge No 135
DESCRIPTION:
URL:https://hamiltonmasons.ca/event/emergent-meeting-st-clair-lodge-no-135-12/
CATEGORIES:Emergent Meeting,North District,St. Clair Lodge No. 135
END:VEVENT
BEGIN:VEVENT
DTSTART;TZID=America/Toronto:20260224T193000
DTEND;TZID=America/Toronto:20260224T220000
DTSTAMP:20260419T223334
CREATED:20260210T165936Z
LAST-MODIFIED:20260210T165939Z
UID:8024-1771961400-1771970400@hamiltonmasons.ca
SUMMARY:Westmount Lodge #671 Regular Meeting
DESCRIPTION:Double First Degree
URL:https://hamiltonmasons.ca/event/westmount-lodge-671-regular-meeting/
END:VEVENT
BEGIN:VEVENT
DTSTART;TZID=America/Toronto:20260224T193000
DTEND;TZID=America/Toronto:20260224T220000
DTSTAMP:20260419T223334
CREATED:20250907T140021Z
LAST-MODIFIED:20251023T032949Z
UID:3871-1771961400-1771970400@hamiltonmasons.ca
SUMMARY:Official Visit - Landmarks Temple No. 324
DESCRIPTION:Landmarks Temple No. 324
URL:https://hamiltonmasons.ca/event/official-visit-landmarks-temple-no-324/
CATEGORIES:Landmarks Temple Lodge No.324,Official Visit,Regular Meeting,South District,Wentworth Lodge No. 166
END:VEVENT
BEGIN:VEVENT
DTSTART;TZID=America/Toronto:20260222T140000
DTEND;TZID=America/Toronto:20260222T160000
DTSTAMP:20260419T223334
CREATED:20250907T140351Z
LAST-MODIFIED:20251016T022811Z
UID:3905-1771768800-1771776000@hamiltonmasons.ca
SUMMARY:Hamilton Masonic Districts Board of Relief Winter Board Meeting
DESCRIPTION:Burlington Reunion Lodge\n2:00 – 4:00PM
URL:https://hamiltonmasons.ca/event/hamilton-masonic-districts-board-of-relief-winter-board-meeting/
CATEGORIES:Board of Relief Meeting,Burlington Reunion Lodge No. 165,South District
END:VEVENT
BEGIN:VEVENT
DTSTART;TZID=America/Toronto:20260221T083000
DTEND;TZID=America/Toronto:20260221T163000
DTSTAMP:20260419T223334
CREATED:20260119T145455Z
LAST-MODIFIED:20260119T152335Z
UID:7926-1771662600-1771691400@hamiltonmasons.ca
SUMMARY:Emergency First Aid with CPR + AED Training Certification Course 2026 Feb
DESCRIPTION:Delivered by Certified St John Ambulance Instructors\n\n\n\noffered by the Joint Health and Safety Committee of CMT and Towers IncContact W. Bro. Chris Andersonto register or for more information: \n\n\n\nContact to register or for more information:\n\n\n\n\nW. Bro. Chris Anderson\n\n\n\nchief.chrisanderson@gmail.com\n\n\n\n(payment via e-transfer to same email)
URL:https://hamiltonmasons.ca/event/emergency-first-aid-with-cpr-aed-training-certification-course-2026-feb/
LOCATION:Masonic Centre of Hamilton\, 4 Queen Street South\, Hamilton\, ON\, L8P 3R3\, Canada
CATEGORIES:Other,South District
END:VEVENT
BEGIN:VEVENT
DTSTART;TZID=America/Toronto:20260220T183000
DTEND;TZID=America/Toronto:20260220T223000
DTSTAMP:20260419T223334
CREATED:20260209T045001Z
LAST-MODIFIED:20260209T045443Z
UID:8013-1771612200-1771626600@hamiltonmasons.ca
SUMMARY:Pasta Dinner\, Games Night and Movie Night presented by Campbell Lodge No. 603
DESCRIPTION:open invitation for anyone interested in attending
URL:https://hamiltonmasons.ca/event/pasta-dinner-games-night-and-movie-night-presented-by-campbell-lodge-no-603/
LOCATION:Campbellville Masonic Temple\, 30 Campbell Ave\, Milton\, ontario\, L0P1B0\, Canada
CATEGORIES:Campbell Lodge No. 603,North District,Social,Social Event
END:VEVENT
BEGIN:VEVENT
DTSTART;TZID=America/Toronto:20260218T191400
DTEND;TZID=America/Toronto:20260218T221400
DTSTAMP:20260419T223334
CREATED:20251010T020811Z
LAST-MODIFIED:20251016T022857Z
UID:4452-1771442040-1771452840@hamiltonmasons.ca
SUMMARY:Regular Meeting
DESCRIPTION:No Content
URL:https://hamiltonmasons.ca/event/regular-meeting-9/
CATEGORIES:Battlefield Lodge No. 61,Regular Meeting,South District
END:VEVENT
BEGIN:VEVENT
DTSTART;TZID=America/Toronto:20260211T183000
DTEND;TZID=America/Toronto:20260211T220000
DTSTAMP:20260419T223334
CREATED:20250907T140021Z
LAST-MODIFIED:20251016T023031Z
UID:3870-1770834600-1770847200@hamiltonmasons.ca
SUMMARY:Official Visit - The Barton No. 6
DESCRIPTION:The Barton No. 6
URL:https://hamiltonmasons.ca/event/official-visit-the-barton-no-6/
CATEGORIES:Meridian Lodge No. 513,Official Visit,Regular Meeting,South District,The Barton Lodge No. 6
END:VEVENT
BEGIN:VEVENT
DTSTART;TZID=America/Toronto:20260209T193000
DTEND;TZID=America/Toronto:20260209T220000
DTSTAMP:20260419T223334
CREATED:20250907T140021Z
LAST-MODIFIED:20251016T023137Z
UID:3869-1770665400-1770674400@hamiltonmasons.ca
SUMMARY:Official Visit - Electric Valley No. 100
DESCRIPTION:Electric Valley No. 100
URL:https://hamiltonmasons.ca/event/official-visit-electric-valley-no-100/
CATEGORIES:Battlefield Lodge No. 61,Electric Valley Lodge No. 100,Official Visit,Regular Meeting,South District
END:VEVENT
BEGIN:VEVENT
DTSTART;TZID=America/New_York:20260204T193000
DTEND;TZID=America/New_York:20260204T220000
DTSTAMP:20260419T223334
CREATED:20251223T155221Z
LAST-MODIFIED:20251223T161927Z
UID:6967-1770233400-1770242400@hamiltonmasons.ca
SUMMARY:Regular Meeting St. Clair Lodge No 135
DESCRIPTION:
URL:https://hamiltonmasons.ca/event/regular-meeting-st-clair-lodge-no-135-2/
CATEGORIES:North District,Regular Meeting,St. Clair Lodge No. 135
END:VEVENT
BEGIN:VEVENT
DTSTART;TZID=America/Toronto:20260202T191400
DTEND;TZID=America/Toronto:20260202T191400
DTSTAMP:20260419T223334
CREATED:20251114T041817Z
LAST-MODIFIED:20251114T170030Z
UID:6532-1770059640-1770059640@hamiltonmasons.ca
SUMMARY:Regular Meeting
DESCRIPTION:No Content
URL:https://hamiltonmasons.ca/event/regular-meeting-40/
CATEGORIES:Beach Lodge No. 475,beach_475,Regular Meeting,South District
END:VEVENT
END:VCALENDAR