BEGIN:VCALENDAR
VERSION:2.0
PRODID:-//Hamilton Masons - ECPv6.15.20//NONSGML v1.0//EN
CALSCALE:GREGORIAN
METHOD:PUBLISH
X-WR-CALNAME:Hamilton Masons
X-ORIGINAL-URL:https://hamiltonmasons.ca
X-WR-CALDESC:Events for Hamilton Masons
REFRESH-INTERVAL;VALUE=DURATION:PT1H
X-Robots-Tag:noindex
X-PUBLISHED-TTL:PT1H
BEGIN:VTIMEZONE
TZID:America/Toronto
BEGIN:DAYLIGHT
TZOFFSETFROM:-0500
TZOFFSETTO:-0400
TZNAME:EDT
DTSTART:19690427T070000
END:DAYLIGHT
BEGIN:STANDARD
TZOFFSETFROM:-0400
TZOFFSETTO:-0500
TZNAME:EST
DTSTART:19691026T060000
END:STANDARD
BEGIN:DAYLIGHT
TZOFFSETFROM:-0500
TZOFFSETTO:-0400
TZNAME:EDT
DTSTART:19700426T070000
END:DAYLIGHT
BEGIN:STANDARD
TZOFFSETFROM:-0400
TZOFFSETTO:-0500
TZNAME:EST
DTSTART:19701025T060000
END:STANDARD
BEGIN:DAYLIGHT
TZOFFSETFROM:-0500
TZOFFSETTO:-0400
TZNAME:EDT
DTSTART:19710425T070000
END:DAYLIGHT
BEGIN:STANDARD
TZOFFSETFROM:-0400
TZOFFSETTO:-0500
TZNAME:EST
DTSTART:19711031T060000
END:STANDARD
END:VTIMEZONE
BEGIN:VEVENT
DTSTART;TZID=America/Toronto:20260420T143450
DTEND;TZID=America/Toronto:20260420T143450
DTSTAMP:20260420T143450
CREATED:20250907T140407Z
LAST-MODIFIED:20250921T223328Z
UID:3912-0-0@hamiltonmasons.ca
SUMMARY:Grand Lodge Annual Communication
DESCRIPTION:
URL:https://hamiltonmasons.ca/event/grand-lodge-annual-communication/
LOCATION:ON
CATEGORIES:Grand Lodge Communication,South District
END:VEVENT
BEGIN:VEVENT
DTSTART;TZID=America/Toronto:20260420T143450
DTEND;TZID=America/Toronto:20260420T143450
DTSTAMP:20260420T143450
CREATED:20250907T140137Z
LAST-MODIFIED:20250921T223254Z
UID:3896-0-0@hamiltonmasons.ca
SUMMARY:International Plowing competition
DESCRIPTION:
URL:https://hamiltonmasons.ca/event/international-plowing-competition/
LOCATION:ON
CATEGORIES:Other,South District
END:VEVENT
END:VCALENDAR