BEGIN:VCALENDAR
VERSION:2.0
PRODID:-//Hamilton Masons - ECPv6.15.20//NONSGML v1.0//EN
CALSCALE:GREGORIAN
METHOD:PUBLISH
X-WR-CALNAME:Hamilton Masons
X-ORIGINAL-URL:https://hamiltonmasons.ca
X-WR-CALDESC:Events for Hamilton Masons
REFRESH-INTERVAL;VALUE=DURATION:PT1H
X-Robots-Tag:noindex
X-PUBLISHED-TTL:PT1H
BEGIN:VTIMEZONE
TZID:America/New_York
BEGIN:DAYLIGHT
TZOFFSETFROM:-0500
TZOFFSETTO:-0400
TZNAME:EDT
DTSTART:20260308T070000
END:DAYLIGHT
BEGIN:STANDARD
TZOFFSETFROM:-0400
TZOFFSETTO:-0500
TZNAME:EST
DTSTART:20261101T060000
END:STANDARD
BEGIN:DAYLIGHT
TZOFFSETFROM:-0500
TZOFFSETTO:-0400
TZNAME:EDT
DTSTART:20270314T070000
END:DAYLIGHT
BEGIN:STANDARD
TZOFFSETFROM:-0400
TZOFFSETTO:-0500
TZNAME:EST
DTSTART:20271107T060000
END:STANDARD
BEGIN:DAYLIGHT
TZOFFSETFROM:-0500
TZOFFSETTO:-0400
TZNAME:EDT
DTSTART:20280312T070000
END:DAYLIGHT
BEGIN:STANDARD
TZOFFSETFROM:-0400
TZOFFSETTO:-0500
TZNAME:EST
DTSTART:20281105T060000
END:STANDARD
END:VTIMEZONE
BEGIN:VEVENT
DTSTART;TZID=America/New_York:20270203T193000
DTEND;TZID=America/New_York:20270203T220000
DTSTAMP:20260420T020453
CREATED:20251223T155240Z
LAST-MODIFIED:20251223T161944Z
UID:6977-1801683000-1801692000@hamiltonmasons.ca
SUMMARY:Regular Meeting St. Clair Lodge No 135
DESCRIPTION:
URL:https://hamiltonmasons.ca/event/regular-meeting-st-clair-lodge-no-135-12/
LOCATION:ON
CATEGORIES:North District,Regular Meeting,St. Clair Lodge No. 135
END:VEVENT
BEGIN:VEVENT
DTSTART;TZID=America/New_York:20270212T193000
DTEND;TZID=America/New_York:20270212T210000
DTSTAMP:20260420T020453
CREATED:20251019T140834Z
LAST-MODIFIED:20251019T140834Z
UID:4949-1802460600-1802466000@hamiltonmasons.ca
SUMMARY:Emergent Meeting
DESCRIPTION:Emergent Meeting — Practice
URL:https://hamiltonmasons.ca/event/emergent-meeting-5/
LOCATION:Masonic Centre of Hamilton\, 4 Queen Street South\, Hamilton\, ON\, L8P 3R3\, Canada
CATEGORIES:Emergent Meeting,Hugh Murray Lodge No. 602
ORGANIZER;CN="Hugh Murray Lodge No. 602":MAILTO:info@hughmurray602.ca
END:VEVENT
BEGIN:VEVENT
DTSTART;TZID=America/New_York:20270214T170000
DTEND;TZID=America/New_York:20270214T230000
DTSTAMP:20260420T020453
CREATED:20251019T140834Z
LAST-MODIFIED:20251019T140834Z
UID:4950-1802624400-1802646000@hamiltonmasons.ca
SUMMARY:Ladies Night
DESCRIPTION:Ladies Night — Ladies Night
URL:https://hamiltonmasons.ca/event/ladies-night/
LOCATION:ON
CATEGORIES:Hugh Murray Lodge No. 602,Social Event
ORGANIZER;CN="Hugh Murray Lodge No. 602":MAILTO:info@hughmurray602.ca
END:VEVENT
BEGIN:VEVENT
DTSTART;TZID=America/New_York:20270303T193000
DTEND;TZID=America/New_York:20270303T220000
DTSTAMP:20260420T020453
CREATED:20251223T155240Z
LAST-MODIFIED:20251223T161944Z
UID:6978-1804102200-1804111200@hamiltonmasons.ca
SUMMARY:Regular Meeting St. Clair Lodge No 135
DESCRIPTION:
URL:https://hamiltonmasons.ca/event/regular-meeting-st-clair-lodge-no-135-13/
LOCATION:ON
CATEGORIES:North District,Regular Meeting,St. Clair Lodge No. 135
END:VEVENT
BEGIN:VEVENT
DTSTART;TZID=America/New_York:20270310T193000
DTEND;TZID=America/New_York:20270310T220000
DTSTAMP:20260420T020453
CREATED:20251019T140834Z
LAST-MODIFIED:20251019T140834Z
UID:4951-1804707000-1804716000@hamiltonmasons.ca
SUMMARY:Regular Meeting
DESCRIPTION:Regular Meeting — Robbie Burns Dinner
URL:https://hamiltonmasons.ca/event/regular-meeting-27/
LOCATION:Masonic Centre of Hamilton\, 4 Queen Street South\, Hamilton\, ON\, L8P 3R3\, Canada
CATEGORIES:Hugh Murray Lodge No. 602,Regular Meeting
ORGANIZER;CN="Hugh Murray Lodge No. 602":MAILTO:info@hughmurray602.ca
END:VEVENT
BEGIN:VEVENT
DTSTART;TZID=America/New_York:20270317T090000
DTEND;TZID=America/New_York:20270317T120000
DTSTAMP:20260420T020453
CREATED:20251019T140853Z
LAST-MODIFIED:20251019T140853Z
UID:4952-1805274000-1805284800@hamiltonmasons.ca
SUMMARY:Pancake Breakfast
DESCRIPTION:Pancake Breakfast — Pancake Breakfast
URL:https://hamiltonmasons.ca/event/pancake-breakfast/
LOCATION:ON
CATEGORIES:Hugh Murray Lodge No. 602,Social Event
ORGANIZER;CN="Hugh Murray Lodge No. 602":MAILTO:info@hughmurray602.ca
END:VEVENT
BEGIN:VEVENT
DTSTART;TZID=America/New_York:20270319T193000
DTEND;TZID=America/New_York:20270319T210000
DTSTAMP:20260420T020453
CREATED:20251019T140853Z
LAST-MODIFIED:20251019T140853Z
UID:4953-1805484600-1805490000@hamiltonmasons.ca
SUMMARY:Emergent Meeting
DESCRIPTION:Emergent Meeting — Practice
URL:https://hamiltonmasons.ca/event/emergent-meeting-6/
LOCATION:Masonic Centre of Hamilton\, 4 Queen Street South\, Hamilton\, ON\, L8P 3R3\, Canada
CATEGORIES:Emergent Meeting,Hugh Murray Lodge No. 602
ORGANIZER;CN="Hugh Murray Lodge No. 602":MAILTO:info@hughmurray602.ca
END:VEVENT
BEGIN:VEVENT
DTSTART;TZID=America/New_York:20270402T170000
DTEND;TZID=America/New_York:20270402T230000
DTSTAMP:20260420T020453
CREATED:20251019T140853Z
LAST-MODIFIED:20251019T140853Z
UID:4954-1806685200-1806706800@hamiltonmasons.ca
SUMMARY:Officers Dinner
DESCRIPTION:Officers Dinner — Officers Dinner
URL:https://hamiltonmasons.ca/event/officers-dinner/
LOCATION:ON
CATEGORIES:Hugh Murray Lodge No. 602,Social Event
ORGANIZER;CN="Hugh Murray Lodge No. 602":MAILTO:info@hughmurray602.ca
END:VEVENT
BEGIN:VEVENT
DTSTART;TZID=America/New_York:20270407T193000
DTEND;TZID=America/New_York:20270407T220000
DTSTAMP:20260420T020453
CREATED:20251223T155240Z
LAST-MODIFIED:20251223T161944Z
UID:6979-1807126200-1807135200@hamiltonmasons.ca
SUMMARY:Regular Meeting St. Clair Lodge No 135
DESCRIPTION:
URL:https://hamiltonmasons.ca/event/regular-meeting-st-clair-lodge-no-135-14/
LOCATION:ON
CATEGORIES:North District,Regular Meeting,St. Clair Lodge No. 135
END:VEVENT
BEGIN:VEVENT
DTSTART;TZID=America/New_York:20270414T193000
DTEND;TZID=America/New_York:20270414T220000
DTSTAMP:20260420T020453
CREATED:20251019T140853Z
LAST-MODIFIED:20251019T140853Z
UID:4955-1807731000-1807740000@hamiltonmasons.ca
SUMMARY:Regular Meeting
DESCRIPTION:Regular Meeting — Spring Time
URL:https://hamiltonmasons.ca/event/regular-meeting-28/
LOCATION:Masonic Centre of Hamilton\, 4 Queen Street South\, Hamilton\, ON\, L8P 3R3\, Canada
CATEGORIES:Hugh Murray Lodge No. 602,Regular Meeting
ORGANIZER;CN="Hugh Murray Lodge No. 602":MAILTO:info@hughmurray602.ca
END:VEVENT
BEGIN:VEVENT
DTSTART;TZID=America/New_York:20270423T193000
DTEND;TZID=America/New_York:20270423T210000
DTSTAMP:20260420T020453
CREATED:20251019T140854Z
LAST-MODIFIED:20251019T140854Z
UID:4956-1808508600-1808514000@hamiltonmasons.ca
SUMMARY:Emergent Meeting
DESCRIPTION:Emergent Meeting — Practice
URL:https://hamiltonmasons.ca/event/emergent-meeting-7/
LOCATION:Masonic Centre of Hamilton\, 4 Queen Street South\, Hamilton\, ON\, L8P 3R3\, Canada
CATEGORIES:Emergent Meeting,Hugh Murray Lodge No. 602
ORGANIZER;CN="Hugh Murray Lodge No. 602":MAILTO:info@hughmurray602.ca
END:VEVENT
BEGIN:VEVENT
DTSTART;TZID=America/New_York:20270505T193000
DTEND;TZID=America/New_York:20270505T220000
DTSTAMP:20260420T020453
CREATED:20251223T155240Z
LAST-MODIFIED:20251223T161944Z
UID:6980-1809545400-1809554400@hamiltonmasons.ca
SUMMARY:Regular Meeting St. Clair Lodge No 135
DESCRIPTION:
URL:https://hamiltonmasons.ca/event/regular-meeting-st-clair-lodge-no-135-15/
LOCATION:ON
CATEGORIES:North District,Regular Meeting,St. Clair Lodge No. 135
END:VEVENT
BEGIN:VEVENT
DTSTART;TZID=America/New_York:20270508T180000
DTEND;TZID=America/New_York:20270508T230000
DTSTAMP:20260420T020453
CREATED:20251019T140909Z
LAST-MODIFIED:20251019T140909Z
UID:4957-1809799200-1809817200@hamiltonmasons.ca
SUMMARY:Scotch Tasting
DESCRIPTION:Scotch Tasting — Scotch Tasting
URL:https://hamiltonmasons.ca/event/scotch-tasting/
LOCATION:Masonic Centre of Hamilton\, 4 Queen Street South\, Hamilton\, ON\, L8P 3R3\, Canada
CATEGORIES:Hugh Murray Lodge No. 602,Social Event
ORGANIZER;CN="Hugh Murray Lodge No. 602":MAILTO:info@hughmurray602.ca
END:VEVENT
BEGIN:VEVENT
DTSTART;TZID=America/New_York:20270519T193000
DTEND;TZID=America/New_York:20270519T220000
DTSTAMP:20260420T020453
CREATED:20251019T140909Z
LAST-MODIFIED:20251019T140909Z
UID:4958-1810755000-1810764000@hamiltonmasons.ca
SUMMARY:Regular Meeting
DESCRIPTION:Regular Meeting — Pie Night
URL:https://hamiltonmasons.ca/event/regular-meeting-29/
LOCATION:Masonic Centre of Hamilton\, 4 Queen Street South\, Hamilton\, ON\, L8P 3R3\, Canada
CATEGORIES:Hugh Murray Lodge No. 602,Regular Meeting
ORGANIZER;CN="Hugh Murray Lodge No. 602":MAILTO:info@hughmurray602.ca
END:VEVENT
BEGIN:VEVENT
DTSTART;TZID=America/New_York:20270522T180000
DTEND;TZID=America/New_York:20270522T230000
DTSTAMP:20260420T020453
CREATED:20251019T140909Z
LAST-MODIFIED:20251019T140909Z
UID:4959-1811008800-1811026800@hamiltonmasons.ca
SUMMARY:Irish Whiskey Tasting
DESCRIPTION:Irish Whiskey Tasting — Irish Whiskey Tasting
URL:https://hamiltonmasons.ca/event/irish-whiskey-tasting/
LOCATION:Masonic Centre of Hamilton\, 4 Queen Street South\, Hamilton\, ON\, L8P 3R3\, Canada
CATEGORIES:Hugh Murray Lodge No. 602,Social Event
ORGANIZER;CN="Hugh Murray Lodge No. 602":MAILTO:info@hughmurray602.ca
END:VEVENT
BEGIN:VEVENT
DTSTART;TZID=America/New_York:20270528T193000
DTEND;TZID=America/New_York:20270528T210000
DTSTAMP:20260420T020453
CREATED:20251019T140909Z
LAST-MODIFIED:20251019T140909Z
UID:4960-1811532600-1811538000@hamiltonmasons.ca
SUMMARY:Emergent Meeting
DESCRIPTION:Emergent Meeting — Practice
URL:https://hamiltonmasons.ca/event/emergent-meeting-8/
LOCATION:Masonic Centre of Hamilton\, 4 Queen Street South\, Hamilton\, ON\, L8P 3R3\, Canada
CATEGORIES:Emergent Meeting,Hugh Murray Lodge No. 602
ORGANIZER;CN="Hugh Murray Lodge No. 602":MAILTO:info@hughmurray602.ca
END:VEVENT
BEGIN:VEVENT
DTSTART;TZID=America/New_York:20270602T193000
DTEND;TZID=America/New_York:20270602T220000
DTSTAMP:20260420T020453
CREATED:20251223T155349Z
LAST-MODIFIED:20251223T161959Z
UID:6981-1811964600-1811973600@hamiltonmasons.ca
SUMMARY:Regular Meeting St. Clair Lodge No 135
DESCRIPTION:
URL:https://hamiltonmasons.ca/event/regular-meeting-st-clair-lodge-no-135-16/
LOCATION:ON
CATEGORIES:North District,Regular Meeting,St. Clair Lodge No. 135
END:VEVENT
BEGIN:VEVENT
DTSTART;TZID=America/New_York:20270623T193000
DTEND;TZID=America/New_York:20270623T220000
DTSTAMP:20260420T020453
CREATED:20251019T140909Z
LAST-MODIFIED:20251019T140909Z
UID:4961-1813779000-1813788000@hamiltonmasons.ca
SUMMARY:Regular Meeting
DESCRIPTION:Regular Meeting — May Day
URL:https://hamiltonmasons.ca/event/regular-meeting-30/
LOCATION:Masonic Centre of Hamilton\, 4 Queen Street South\, Hamilton\, ON\, L8P 3R3\, Canada
CATEGORIES:Hugh Murray Lodge No. 602,Regular Meeting
ORGANIZER;CN="Hugh Murray Lodge No. 602":MAILTO:info@hughmurray602.ca
END:VEVENT
BEGIN:VEVENT
DTSTART;TZID=America/New_York:20270702T193000
DTEND;TZID=America/New_York:20270702T210000
DTSTAMP:20260420T020453
CREATED:20251019T141108Z
LAST-MODIFIED:20251019T141108Z
UID:4962-1814556600-1814562000@hamiltonmasons.ca
SUMMARY:Emergent Meeting
DESCRIPTION:Emergent Meeting — Practice
URL:https://hamiltonmasons.ca/event/emergent-meeting-9/
LOCATION:Masonic Centre of Hamilton\, 4 Queen Street South\, Hamilton\, ON\, L8P 3R3\, Canada
CATEGORIES:Emergent Meeting,Hugh Murray Lodge No. 602
ORGANIZER;CN="Hugh Murray Lodge No. 602":MAILTO:info@hughmurray602.ca
END:VEVENT
BEGIN:VEVENT
DTSTART;TZID=America/New_York:20270715T000000
DTEND;TZID=America/New_York:20270718T235959
DTSTAMP:20260420T020453
CREATED:20251019T141109Z
LAST-MODIFIED:20251019T141109Z
UID:4963-1815609600-1815955199@hamiltonmasons.ca
SUMMARY:Regular Meeting
DESCRIPTION:Regular Meeting — Grand Convocation
URL:https://hamiltonmasons.ca/event/regular-meeting-31/
LOCATION:ON
CATEGORIES:GL Convocation,Hugh Murray Lodge No. 602
END:VEVENT
BEGIN:VEVENT
DTSTART;TZID=America/New_York:20270723T110000
DTEND;TZID=America/New_York:20270723T190000
DTSTAMP:20260420T020453
CREATED:20251019T141109Z
LAST-MODIFIED:20251019T141109Z
UID:4964-1816340400-1816369200@hamiltonmasons.ca
SUMMARY:Lodge BBQ
DESCRIPTION:Lodge BBQ — Lodge BBQ
URL:https://hamiltonmasons.ca/event/lodge-bbq/
LOCATION:ON
CATEGORIES:Hugh Murray Lodge No. 602,Social Event
ORGANIZER;CN="Hugh Murray Lodge No. 602":MAILTO:info@hughmurray602.ca
END:VEVENT
BEGIN:VEVENT
DTSTART;TZID=America/New_York:20270728T193000
DTEND;TZID=America/New_York:20270728T220000
DTSTAMP:20260420T020453
CREATED:20251019T141109Z
LAST-MODIFIED:20251019T141109Z
UID:4965-1816803000-1816812000@hamiltonmasons.ca
SUMMARY:Regular Meeting
DESCRIPTION:Regular Meeting — Lodge BBQ
URL:https://hamiltonmasons.ca/event/regular-meeting-32/
LOCATION:Masonic Centre of Hamilton\, 4 Queen Street South\, Hamilton\, ON\, L8P 3R3\, Canada
CATEGORIES:Hugh Murray Lodge No. 602,Regular Meeting
ORGANIZER;CN="Hugh Murray Lodge No. 602":MAILTO:info@hughmurray602.ca
END:VEVENT
BEGIN:VEVENT
DTSTART;TZID=America/New_York:20270806T193000
DTEND;TZID=America/New_York:20270806T210000
DTSTAMP:20260420T020453
CREATED:20251019T141109Z
LAST-MODIFIED:20251024T020120Z
UID:4966-1817580600-1817586000@hamiltonmasons.ca
SUMMARY:Emergent Meeting
DESCRIPTION:Emergent Meeting — Practice
URL:https://hamiltonmasons.ca/event/emergent-meeting-10/
LOCATION:Masonic Centre of Hamilton\, 4 Queen Street South\, Hamilton\, ON\, L8P 3R3\, Canada
CATEGORIES:Emergent Meeting,Hugh Murray Lodge No. 602
ORGANIZER;CN="Hugh Murray Lodge No. 602":MAILTO:info@hughmurray602.ca
END:VEVENT
BEGIN:VEVENT
DTSTART;TZID=America/New_York:20270901T193000
DTEND;TZID=America/New_York:20270901T220000
DTSTAMP:20260420T020453
CREATED:20251223T155349Z
LAST-MODIFIED:20251223T161959Z
UID:6982-1819827000-1819836000@hamiltonmasons.ca
SUMMARY:Regular Meeting St. Clair Lodge No 135
DESCRIPTION:
URL:https://hamiltonmasons.ca/event/regular-meeting-st-clair-lodge-no-135-17/
LOCATION:ON
CATEGORIES:North District,Regular Meeting,St. Clair Lodge No. 135
END:VEVENT
BEGIN:VEVENT
DTSTART;TZID=America/New_York:20270910T193000
DTEND;TZID=America/New_York:20270910T210000
DTSTAMP:20260420T020453
CREATED:20251019T141227Z
LAST-MODIFIED:20251019T141332Z
UID:4967-1820604600-1820610000@hamiltonmasons.ca
SUMMARY:Emergent Meeting
DESCRIPTION:Emergent Meeting — Practice
URL:https://hamiltonmasons.ca/event/emergent-meeting-11/
LOCATION:Masonic Centre of Hamilton\, 4 Queen Street South\, Hamilton\, ON\, L8P 3R3\, Canada
CATEGORIES:Emergent Meeting,Hugh Murray Lodge No. 602
ORGANIZER;CN="Hugh Murray Lodge No. 602":MAILTO:info@hughmurray602.ca
END:VEVENT
BEGIN:VEVENT
DTSTART;TZID=America/New_York:20271006T193000
DTEND;TZID=America/New_York:20271006T220000
DTSTAMP:20260420T020453
CREATED:20251223T155349Z
LAST-MODIFIED:20251223T161959Z
UID:6983-1822851000-1822860000@hamiltonmasons.ca
SUMMARY:Regular Meeting St. Clair Lodge No 135
DESCRIPTION:
URL:https://hamiltonmasons.ca/event/regular-meeting-st-clair-lodge-no-135-18/
LOCATION:ON
CATEGORIES:North District,Regular Meeting,St. Clair Lodge No. 135
END:VEVENT
BEGIN:VEVENT
DTSTART;TZID=America/New_York:20271103T193000
DTEND;TZID=America/New_York:20271103T220000
DTSTAMP:20260420T020453
CREATED:20251223T155349Z
LAST-MODIFIED:20251223T161959Z
UID:6984-1825270200-1825279200@hamiltonmasons.ca
SUMMARY:Regular Meeting St. Clair Lodge No 135
DESCRIPTION:
URL:https://hamiltonmasons.ca/event/regular-meeting-st-clair-lodge-no-135-19/
LOCATION:ON
CATEGORIES:North District,Regular Meeting,St. Clair Lodge No. 135
END:VEVENT
BEGIN:VEVENT
DTSTART;TZID=America/New_York:20271201T193000
DTEND;TZID=America/New_York:20271201T220000
DTSTAMP:20260420T020453
CREATED:20251223T155350Z
LAST-MODIFIED:20251223T161959Z
UID:6985-1827689400-1827698400@hamiltonmasons.ca
SUMMARY:Regular Meeting St. Clair Lodge No 135
DESCRIPTION:
URL:https://hamiltonmasons.ca/event/regular-meeting-st-clair-lodge-no-135-20/
LOCATION:ON
CATEGORIES:North District,Regular Meeting,St. Clair Lodge No. 135
END:VEVENT
END:VCALENDAR